BEGIN:VCALENDAR
VERSION:2.0
METHOD:PUBLISH
PRODID:-//hacksw/handcal//NONSGML v1.0//EN
BEGIN:VEVENT
DTSTAMP:20260423T083503Z
DTSTART:20221125T180000Z
DTEND:20221125T200000Z
UID:20221125T180000Z-20221125T200000Z-960@kraz-ac.de
SUMMARY:Vortrag von Werner Rügemer
DESCRIPTION:Die Amerikanisierung Europas und Deutschlands - und ihr no
 twendiges Ende\n\nDr. Werner Rügemer wird die Geschichte der Amerikani
 sierung umreißen und ihre negativen Folgen aufzeigen.\nDaraus leitet e
 r seine These ab\, dass die EU und vor allem Deutschland sich von »Ame
 rica First« befreien müssen - wie es in einem seiner Artikel heißt.\n\
 nRügemer hat zu dem Themenkomplex zahlreiche Artikel und  mehrere Büch
 er geschrieben\; seine jüngsten Veröffentlichungen sind: BlackRock & C
 o enteignen! Auf den Spuren einer unbekannten Weltmacht und Die Kapita
 listen des 21. Jahrhunderts.\n\nNach seinem Vortrag ist Zeit für eine 
 spannende und kontroverse Diskussion!\nEintritt frei (-willige Gabe)\n
 \nOrt: Aula\, Welthaus\, An der Schanz 1\nVeranstalter: 'kraz'\, unter
 stützt vom Bündnis gegen Waffenlieferungen und ‚Aachener Mahnwache Leu
 chtturm‘
X-ALT-DESC;FMTTYPE=text/html:<h3>&#8222\;Die Amerikanisierung Europas 
 und Deutschlands &#8211\; und ihr notwendiges Ende&#8220\;</h3>\n<p>Dr
 . Werner Rügemer wird die Geschichte der &#8222\;Amerikanisierung&#822
 0\; umreißen und ihre negativen Folgen aufzeigen.<br>\nDaraus leitet e
 r seine These ab\, dass &#8222\;die EU und vor allem Deutschland sich 
 von »America First« befreien müssen&#8220\; &#8211\; wie es in einem s
 einer Artikel heißt.</p>\n<p>Rügemer hat zu dem Themenkomplex zahlreic
 he Artikel und  mehrere Bücher geschrieben\; seine jüngsten Veröffentl
 ichungen sind: &#8222\;BlackRock &amp\; Co enteignen! Auf den Spuren e
 iner unbekannten Weltmacht&#8220\; und &#8222\;Die Kapitalisten des 21
 . Jahrhunderts&#8220\;.</p>\n<p>Nach seinem Vortrag ist Zeit für eine 
 spannende und kontroverse Diskussion!<br>\nEintritt frei (-willige Gab
 e)</p>\n<p>Ort: Aula\, Welthaus\, An der Schanz 1<br>\nVeranstalter: &
 #8218\;kraz&#8216\;\, unterstützt vom Bündnis gegen Waffenlieferungen 
 und ‚Aachener Mahnwache Leuchtturm‘</p>\n
URL:https://kraz-ac.de/events/vortrag-von-werner-ruegemer?lang=de
ATTACH:https://kraz-ac.de/events/vortrag-von-werner-ruegemer?lang=de
LOCATION:Aula Welthaus\, An der Schanz 1\, Aachen
END:VEVENT
END:VCALENDAR
