BEGIN:VCALENDAR
VERSION:2.0
METHOD:PUBLISH
PRODID:-//hacksw/handcal//NONSGML v1.0//EN
BEGIN:VEVENT
DTSTAMP:20260423T100427Z
DTSTART:20220409T130000Z
DTEND:20220409T150000Z
UID:20220409T130000Z-20220409T150000Z-901@kraz-ac.de
SUMMARY:Sowohl bei Sieg als auch bei Teilniederlage
DESCRIPTION:Demo & Kundgebung gegen Impfpflicht (update!)\n\nHier der 
 neue Text (unten die bisherige Ankündigung)\nAm Donnerstag wurde die a
 llgemeine Impfpflicht im Bundestag abgelehnt!\nWie angekündigt werden 
 wir das feiern!\nWir starten mit einer Sieges-Demo - wie üblich vom Mo
 nheimspark und laufen zum Marktplatz.\nDort gibt's spätestens ab 16 Uh
 r die Siegesfeier mit Reden\, Musik Tanzen & Feiern! (aber die Getränk
 e bitte selber mitbringen!)\n\nJa\, wir wissen\, es gibt noch einiges 
 zu tun: Die KollegInnen im Gesundheitssektor haben immer noch eine Imp
 fpflicht\, die Drohungen mit Zugangsbeschränkungen (2G/2G+//3G) und di
 e Maskenpflicht an vielen Orten sind immer noch nicht vom Tisch.\n\nAb
 er als Rheinländer soll man auch das feiern\, was jetzt schon erreicht
  ist!\nWir haben gemeinsam gegen die Impfpflicht gekämpft\n– jetzt wol
 len wir auch das erfolgreiche Ergebnis dieses Kampfes feiern!\nKommt r
 eichlich!\n\nEuer Bündnis „Nein zur Impfpflicht!“\n\n---\nAm kommenden
  Donnerstag gibt es die Abstimmung im Bundestag über die Impfpflicht.\
 n\nSicher ist: Es wird KEINE Impfpflicht ab 18 geben\nMöglich ist aber
  Fall A: Impfpflicht ab 50+ kommt!\nMöglich ist auch Fall B: Impfpflic
 ht ab 50+ kommt NICHT\n\nDer letztere Fall wäre ein VOLLER SIEG und au
 ch ein Erfolg UNSERER Demos in Aachen\, den wir feiern müssen!\nDie be
 ide ersteren wären unschön aber ein Grund: Weiterzukämpfen!\n\nDeshalb
  werden wir am kommende Samstag so oder so eine Demo vom Monheimspark 
 zum Markt machen und\n\n 	im Fall A: Eine Siegesdemo mit Party am Mark
 t machen (Getränke bitte selber mitbringen!)\n 	im Fall B: Ist das ein
 erseits das Eingeständnis einer TEIL-Niederlage\, gleichzeitig aber di
 e Ankündigung\, dass wir weiter gegen die Impfpflicht ankämpfen wollen
 !\n\nWir haben gemeinsam gegen die Impfpflicht gekämpft\n- jetzt stehe
 n wir auch beim Ergebnis dieses Kampfes zusammen!\nKommt reichlich!\n\
 nEuer Bündnis Nein zur Impfpflicht!
X-ALT-DESC;FMTTYPE=text/html:<h3>Demo &amp\; Kundgebung gegen Impfpfli
 cht <span style=color: #ff0000>(update!)</span></h3>\n<p></p>\n<p><spa
 n style=color: #ff0000>Hier der neue Text (unten die bisherige Ankündi
 gung)<br>\n</span>Am Donnerstag wurde die allgemeine Impfpflicht im Bu
 ndestag abgelehnt!<br>\nWie angekündigt werden wir das feiern!<br>\nWi
 r starten mit einer Sieges-Demo &#8211\; wie üblich vom Monheimspark u
 nd laufen zum Marktplatz.<br>\nDort gibt&#8217\;s spätestens ab 16 Uhr
  die Siegesfeier mit Reden\, Musik Tanzen &amp\; Feiern! (aber die Get
 ränke bitte selber mitbringen!)</p>\n<p>Ja\, wir wissen\, es gibt noch
  einiges zu tun: Die KollegInnen im Gesundheitssektor haben immer noch
  eine &#8222\;Impfpflicht&#8220\;\, die Drohungen mit Zugangsbeschränk
 ungen (2G/2G+//3G) und die Maskenpflicht an vielen Orten sind immer no
 ch nicht vom Tisch.</p>\n<p>Aber als Rheinländer soll man auch das fei
 ern\, was jetzt schon erreicht ist!</p>\n<p style=text-align: center><
 strong>Wir haben gemeinsam gegen die Impfpflicht gekämpft<br>\n</stron
 g><strong>– jetzt wollen wir auch das erfolgreiche Ergebnis dieses Kam
 pfes feiern!<br>\nKommt reichlich!<br>\n</strong></p>\n<p>Euer Bündnis
  „Nein zur Impfpflicht!“</p>\n<p>&#8212\;<br>\n<em>Am kommenden Donner
 stag gibt es die Abstimmung im Bundestag über die Impfpflicht.</em></p
 >\n<p><em>Sicher ist: Es wird KEINE &#8222\;Impfpflicht ab 18&#8220\; 
 geben</em><br>\n<em>Möglich ist aber Fall A: &#8222\;Impfpflicht ab 50
 +&#8220\; kommt!</em><br>\n<em>Möglich ist auch Fall B: &#8222\;Impfpf
 licht ab 50+&#8220\; kommt NICHT</em></p>\n<p><em><strong>Der letztere
  Fall wäre ein VOLLER SIEG und auch ein Erfolg UNSERER Demos in Aachen
 \, den wir feiern müssen!</strong></em><br>\n<em><strong>Die beide ers
 teren wären unschön aber ein Grund: Weiterzukämpfen!</strong></em></p>
 \n<p><em>Deshalb werden wir am kommende Samstag so oder so eine Demo v
 om Monheimspark zum Markt machen und</em></p>\n<ul>\n<li><em>im Fall A
 : Eine Siegesdemo mit Party am Markt machen (Getränke bitte selber mit
 bringen!)</em></li>\n<li><em>im Fall B: Ist das einerseits das Eingest
 ändnis einer TEIL-Niederlage\, gleichzeitig aber die Ankündigung\, das
 s wir weiter gegen die Impfpflicht ankämpfen wollen!</em></li>\n</ul>\
 n<p style=text-align: center><em><strong>Wir haben gemeinsam gegen die
  Impfpflicht gekämpft<br>\n&#8211\; jetzt stehen wir auch beim Ergebni
 s dieses Kampfes zusammen!<br>\nKommt reichlich!<br>\n</strong></em></
 p>\n<p><em>Euer Bündnis &#8222\;Nein zur Impfpflicht!&#8220\;</em></p>
 \n
URL:https://kraz-ac.de/events/sowohl-bei-sieg-als-auch-bei-teilniederl
 age?lang=de
ATTACH:https://kraz-ac.de/events/sowohl-bei-sieg-als-auch-bei-teilnied
 erlage?lang=de
LOCATION:Kurpark Monheimsallee\, Monheimsallee 48\, 52062 Aachen
END:VEVENT
END:VCALENDAR
