BEGIN:VCALENDAR
VERSION:2.0
METHOD:PUBLISH
PRODID:-//hacksw/handcal//NONSGML v1.0//EN
BEGIN:VEVENT
DTSTAMP:20260420T085748Z
DTSTART:20220526T170000Z
DTEND:20220526T190000Z
UID:20220526T170000Z-20220526T190000Z-899@kraz-ac.de
SUMMARY:Buchpräsentation Zensur ...
DESCRIPTION:von Hannes Hofbauer\n\nZensur findet nicht statt. Was die 
 Verfassungen in Ländern wie Deutschland und Österreich garantieren\, w
 ird in den vergangenen Jahren mehr und mehr von der Wirklichkeit Lügen
  gestraft. Das Buch Zensur von Hannes Hofbauer holt historisch aus\, u
 m die neuen Zensur-Instrumente des digital-kybernetischen Zeitalters b
 esser verstehen zu können.\n(Siehe hierzu auch ein Aachener Beispiel/A
 pril 2022!)\n\nZeit 19- 21 Uhr\,\nOrt: Aula im Welthaus\, An der Schan
 z 1\n\n\n\nZwischen staatlichen Wahrheitswächtern und privaten Medienm
 onopolen entwickelt sich in unseren Tagen eine neue Zensur-Praxis\, fü
 r die beide nicht zuständig sein wollen und sich gegenseitig die Veran
 twortung zuspielen\; eine Zensur des post-industriellen\, kybernetisch
 en Zeitalters.\n\n„Gefährliche Falschinformation“ lautet die Punze\, d
 ie Konzerne wie Alphabet/Google oder Facebook/Meta all jenen Publikati
 onen auf ihren Plattformen aufdrücken\, die dem transatlantisch-libera
 len Weltbild ihrer Betreiber nicht passen. Gelöscht und blockiert wird
  von politisch und kulturell gesteuerten Algorithmen. In den vergangen
 en Jahren ist dies millionenfach geschehen\, wenn Beiträge über Corona
 \, Russland\, den Islam oder den Klimawandel nicht der herrschenden Me
 inung entsprechen.\n\nDer Wiener Historiker Hannes Hofbauer geht in di
 e Geschichte zurück\, um die aktuellen Verbotspraktiken besser versteh
 en zu können. Moderne Zensur beginnt mit der Erfindung des Buchdrucks 
 zur Mitte des 15. Jahrhunderts. Sie orientierte sich an den bereits da
 vor gängigen Werten\, mit der die katholische Inquisition gottesläster
 liche und kirchenkritische Stimmen zum Schweigen gebracht hatte. Bis i
 ns 18. Jahrhundert gehen die Träger der verordneten Wahrheit Schritt f
 ür Schritt von der Kirche auf den Staat über\, wobei erstere als „Schu
 tzwächter des Pöbels“ wichtig blieb. Der Band enthält viele Biographie
 n von zensierten Autoren\, kämpferischen Verlegern wie Friedrich Brock
 haus und standhaften Buchhändlern wie dem 1806 hingerichteten Johann P
 hilipp Palm.\n\nDie Wiederkehr der Zensur in unseren Tagen wurzelt in 
 der ökonomischen Schwäche des transatlantischen Raums. Im Niedergang k
 ämpft eine immer autoritärer agierende Elite um ihre Diskurshegemonie.
  Je erfolgreicher eine der herrschenden Meinung entgegenstehende Posit
 ion unter die Menschen gebracht wird\, desto aggressiver wird ihr von 
 Brüssel oder Berlin begegnet\, wobei immer häufiger die Zensurkeule zu
 m Einsatz kommt.\n\nDas Bewusstsein\, dass unsere Gesellschaften langs
 am aber stetig in Richtung Orwell’scher Wahrheitsministerien schlitter
 n\, ist (noch) schwach entwickelt. Es zu schärfen\, dazu soll dieses B
 uch beitragen\; und um historische Parallelen erkennen zu können\, wie
  z.B. jene der Zensurstriche in Heinrich Heines „Reisebildern“ und den
  geschwärzten Videos auf YouTube.\n(https://mediashop.at/buecher/zensu
 r/)
X-ALT-DESC;FMTTYPE=text/html:<h3>von Hannes Hofbauer</h3>\n<p>Zensur f
 indet nicht statt. Was die Verfassungen in Ländern wie Deutschland und
  Österreich garantieren\, wird in den vergangenen Jahren mehr und mehr
  von der Wirklichkeit Lügen gestraft. Das Buch &#8222\;Zensur&#8220\; 
 von Hannes Hofbauer holt historisch aus\, um die neuen Zensur-Instrume
 nte des digital-kybernetischen Zeitalters besser verstehen zu können.<
 br>\n(Siehe hierzu auch <a href=https://kraz-ac.de/es-gibt-keine-zensu
 r-in-ac-8240>ein Aachener Beispiel/April 2022!</a>)</p>\n<p>Zeit 19- 2
 1 Uhr\,<br>\nOrt: Aula im Welthaus\, An der Schanz 1</p>\n<hr />\n<p>\
 nZwischen staatlichen Wahrheitswächtern und privaten Medienmonopolen e
 ntwickelt sich in unseren Tagen eine neue Zensur-Praxis\, für die beid
 e nicht zuständig sein wollen und sich gegenseitig die Verantwortung z
 uspielen\; eine Zensur des post-industriellen\, kybernetischen Zeitalt
 ers.</p>\n<p>„Gefährliche Falschinformation“ lautet die Punze\, die Ko
 nzerne wie Alphabet/Google oder Facebook/Meta all jenen Publikationen 
 auf ihren Plattformen aufdrücken\, die dem transatlantisch-liberalen W
 eltbild ihrer Betreiber nicht passen. Gelöscht und blockiert wird von 
 politisch und kulturell gesteuerten Algorithmen. In den vergangenen Ja
 hren ist dies millionenfach geschehen\, wenn Beiträge über Corona\, Ru
 ssland\, den Islam oder den Klimawandel nicht der herrschenden Meinung
  entsprechen.</p>\n<p>Der Wiener Historiker Hannes Hofbauer geht in di
 e Geschichte zurück\, um die aktuellen Verbotspraktiken besser versteh
 en zu können. Moderne Zensur beginnt mit der Erfindung des Buchdrucks 
 zur Mitte des 15. Jahrhunderts. Sie orientierte sich an den bereits da
 vor gängigen Werten\, mit der die katholische Inquisition gottesläster
 liche und kirchenkritische Stimmen zum Schweigen gebracht hatte. Bis i
 ns 18. Jahrhundert gehen die Träger der verordneten Wahrheit Schritt f
 ür Schritt von der Kirche auf den Staat über\, wobei erstere als „Schu
 tzwächter des Pöbels“ wichtig blieb. Der Band enthält viele Biographie
 n von zensierten Autoren\, kämpferischen Verlegern wie Friedrich Brock
 haus und standhaften Buchhändlern wie dem 1806 hingerichteten Johann P
 hilipp Palm.</p>\n<p>Die Wiederkehr der Zensur in unseren Tagen wurzel
 t in der ökonomischen Schwäche des transatlantischen Raums. Im Niederg
 ang kämpft eine immer autoritärer agierende Elite um ihre Diskurshegem
 onie. Je erfolgreicher eine der herrschenden Meinung entgegenstehende 
 Position unter die Menschen gebracht wird\, desto aggressiver wird ihr
  von Brüssel oder Berlin begegnet\, wobei immer häufiger die Zensurkeu
 le zum Einsatz kommt.</p>\n<p>Das Bewusstsein\, dass unsere Gesellscha
 ften langsam aber stetig in Richtung Orwell’scher Wahrheitsministerien
  schlittern\, ist (noch) schwach entwickelt. Es zu schärfen\, dazu sol
 l dieses Buch beitragen\; und um historische Parallelen erkennen zu kö
 nnen\, wie z.B. jene der Zensurstriche in Heinrich Heines „Reisebilder
 n“ und den geschwärzten Videos auf YouTube.<br>\n(https://mediashop.at
 /buecher/zensur/)</p>\n
URL:https://kraz-ac.de/events/buchpraesentation-zensur?lang=de
ATTACH:https://kraz-ac.de/events/buchpraesentation-zensur?lang=de
LOCATION:Aula Welthaus\, An der Schanz 1\, Aachen
END:VEVENT
END:VCALENDAR
