BEGIN:VCALENDAR
VERSION:2.0
METHOD:PUBLISH
PRODID:-//hacksw/handcal//NONSGML v1.0//EN
BEGIN:VEVENT
DTSTAMP:20260422T121633Z
DTSTART:20220212T140000Z
DTEND:20220212T153000Z
UID:20220212T140000Z-20220212T153000Z-866@kraz-ac.de
SUMMARY:Veranstaltung: Kein Krieg mit Russland
DESCRIPTION:wird verschoben!?!: \,\,Keine Waffenlieferungen an die Ukr
 aine! \n\n[Die kraz Redaktion streicht auf Wunsch des AKB den  Ankündi
 gungstext des AKBs zur Veranstaltung am 12.2.2022.\nTitel\, Datum und 
 Ort der Veranstaltungsankündigung werden wir aber weiterhin öffentlich
  ankündigen und das auch in allen analogen Fällen zukünftig so machen.
 ]\n\nEine Mitteilung das AKB an die kraz (am 11.2.):\n... die für den 
 Samstag 12.2.22 15:00 Uhr angedachte Kundgebung des Antikriegsbündniss
 es „Kein Krieg gegen Russland! Keine Waffenlieferungen an die Ukraine“
  wird verschoben\, bitte ergänzt den Eintrag in der KRAZ entsprechend.
 ..\n\nAuf Nachfrage der kraz teilte das AKB mit\, dass diese Info über
  INTERNE (?!?) Verteilerlisten gestreut würde!?!\n\n\nVeranstalter: An
 tikriegsbündnis Aachen
X-ALT-DESC;FMTTYPE=text/html:<h3><b><span style=color: #ff0000>wird ve
 rschoben!?!:</span> \,\,Keine Waffenlieferungen an die Ukraine! </b></
 h3>\n<p></p>\n<p><em>[Die kraz Redaktion <a href=https://kraz-ac.de/di
 e-kriegsgefahr-ist-gross-wie-schon-lange-nicht-mehr-7898>streicht auf 
 Wunsch des AKB den  Ankündigungstext des AKBs</a> zur Veranstaltung am
  12.2.2022.</em><br>\n<em>Titel\, Datum und Ort der Veranstaltungsankü
 ndigung werden wir aber weiterhin öffentlich ankündigen und das auch i
 n allen analogen Fällen zukünftig so machen.</em>]</p>\n<p><span style
 =color: #ff0000>Eine Mitteilung das AKB an die kraz (am 11.2.):</span>
 <br>\n<span style=color: #ff0000>&#8222\;<em>&#8230\; die für den Sams
 tag 12.2.22 15:00 Uhr angedachte Kundgebung des Antikriegsbündnisses „
 Kein Krieg gegen Russland! Keine Waffenlieferungen an die Ukraine“ wir
 d verschoben\, bitte ergänzt den Eintrag in der KRAZ entsprechend&#823
 0\;</em></span></p>\n<p><span style=color: #ff0000>Auf Nachfrage der <
 em>kraz</em> teilte das AKB mit\, dass diese Info über INTERNE (?!?) V
 erteilerlisten gestreut würde!?!</span></p>\n<div class=moz-forward-co
 ntainer><br>\nVeranstalter: Antikriegsbündnis Aachen</p>\n</div>\n
URL:https://kraz-ac.de/events/veranstaltung-kein-krieg-mit-russland?la
 ng=de
ATTACH:https://kraz-ac.de/events/veranstaltung-kein-krieg-mit-russland
 ?lang=de
LOCATION:Elisenbrunnen\, Friedrich-Wilhelm-Platz 1\, 52064 Aachen
END:VEVENT
END:VCALENDAR
