BEGIN:VCALENDAR
VERSION:2.0
METHOD:PUBLISH
PRODID:-//hacksw/handcal//NONSGML v1.0//EN
BEGIN:VEVENT
DTSTAMP:20260422T090224Z
DTSTART:20210820T163000Z
DTEND:20210820T180000Z
UID:20210820T163000Z-20210820T180000Z-799@kraz-ac.de
SUMMARY:Gegen Impf-Experimente an unseren Kindern
DESCRIPTION:Solidarität geht anders!\nDie Freie Linke Aachen informier
 t zum Thema Kinder-Impfung.\nWir laden zu einer Kundgebung mit diverse
 n Redebeiträgen zum Thema ein.\n==> Freitag\, der 20.08.2021\, 18.30 U
 hr\, Elisenbrunnen\nCorona ist nicht die Pest\,\ndie Todesrate ähnelt 
 der einer starken Grippewelle. Trotzdem überbieten sich Politiker fast
  aller Parteien mit immer krasseren Maßnahmen zur Eindämmung von Coron
 a\, obwohl sie bei anderen Themen wie den Todesfällen durch Umweltvers
 chmutzung\, Gift im Essen\, Armut und Krieg (bewusst) versagen. Eines 
 ihrer neuen Lieblingsthemen ist die Anti-Corona-Impfung aller Menschen
 . Und nur danach sollen wir unsere Freiheiten zurück bekommen.\n\nObwo
 hl die Impfstoffe noch nicht richtig erprobt sind\, ihre Wirksamkeit t
 eilweise zweifelhaft ist\, reihenweise Nebenwirkungen auftreten und Ki
 nder die am wenigsten gefährdete Gruppe sind\, werden die Forderungen 
 nach einer Impfung auch für Kinder ab 12  (oder gar noch jünger?) imme
 r lauter.\nHier wiederholt sich ein Muster:\n\n 	Seit vielen Jahren kr
 itisieren alle fortschrittlichen Linken den Raubbau an unserer Natur u
 nd den Ressourcen der Erde. Die Zeche für diese Zerstörungen werden un
 sere Kinder zahlen\, da sie sich ihr Leben lang mit den Folgen des Kli
 mawandels herum schlagen müssen - den sie selber am wenigsten verursac
 ht haben.\n 	Und nun wird ihnen mit Corona-Impfungen eine zweite Hypot
 hek aufgebürdet\, wenn sie ihre Kindheit unter einer Maske verbringen 
 und an Impfexperimenten teilnehmen sollen\, die sie selber am wenigste
 n schützen.\n\n==> Solidarität mit den jüngsten Mitgliedern unserer Ge
 sellschaft geht anders !!!\n\nVeranstalter: Freie Linke Aachen (Kontak
 t: FL-AC@gmx.de)
X-ALT-DESC;FMTTYPE=text/html:<h3><b>Solidarität geht anders!</b><b></b
 ></h3>\n<p><strong>Die Freie Linke Aachen informiert zum Thema Kinder-
 Impfung.</strong><br>\nWir laden zu einer Kundgebung mit diversen Rede
 beiträgen zum Thema ein.<br>\n==&gt\; Freitag\, der 20.08.2021\, 18.30
  Uhr\, Elisenbrunnen</p>\n<h4>Corona ist nicht die Pest\,</h4>\n<p>die
  Todesrate ähnelt der einer starken Grippewelle. Trotzdem überbieten s
 ich Politiker fast aller Parteien mit immer krasseren Maßnahmen zur Ei
 ndämmung von Corona\, obwohl sie bei anderen Themen wie den Todesfälle
 n durch Umweltverschmutzung\, Gift im Essen\, Armut und Krieg (bewusst
 ) versagen. Eines ihrer neuen Lieblingsthemen ist die Anti-Corona-Impf
 ung aller Menschen. Und nur danach sollen wir unsere Freiheiten zurück
  bekommen.</p>\n<p>Obwohl die Impfstoffe noch nicht richtig erprobt si
 nd\, ihre Wirksamkeit teilweise zweifelhaft ist\, reihenweise Nebenwir
 kungen auftreten und Kinder die am wenigsten gefährdete Gruppe sind\, 
 werden die Forderungen nach einer Impfung auch für Kinder ab 12  (oder
  gar noch jünger?) immer lauter.</p>\n<h4>Hier wiederholt sich ein Mus
 ter:</h4>\n<ul>\n<li>Seit vielen Jahren kritisieren alle fortschrittli
 chen Linken den Raubbau an unserer Natur und den Ressourcen der Erde. 
 Die Zeche für diese Zerstörungen werden unsere Kinder zahlen\, da sie 
 sich ihr Leben lang mit den Folgen des Klimawandels herum schlagen müs
 sen &#8211\; den sie selber am wenigsten verursacht haben.</li>\n<li>U
 nd nun wird ihnen mit Corona-Impfungen eine zweite Hypothek aufgebürde
 t\, wenn sie ihre Kindheit unter einer Maske verbringen und an Impfexp
 erimenten teilnehmen sollen\, die sie selber am wenigsten schützen.\n<
 p><strong>==&gt\; Solidarität mit den jüngsten Mitgliedern unserer Ges
 ellschaft geht anders !!!</strong></li>\n</ul>\n<p>Veranstalter: Freie
  Linke Aachen (Kontakt: FL-AC@gmx.de)</p>\n
URL:https://kraz-ac.de/events/gegen-impf-experimente-an-unseren-kinder
 n?lang=de
ATTACH:https://kraz-ac.de/events/gegen-impf-experimente-an-unseren-kin
 dern?lang=de
LOCATION:Elisenbrunnen\, Friedrich-Wilhelm-Platz\, 52062 Aachen
END:VEVENT
END:VCALENDAR
