BEGIN:VCALENDAR
VERSION:2.0
METHOD:PUBLISH
PRODID:-//hacksw/handcal//NONSGML v1.0//EN
BEGIN:VEVENT
DTSTAMP:20260420T142220Z
DTSTART:20210209T180000Z
DTEND:20210209T200000Z
UID:20210209T180000Z-20210209T200000Z-742@kraz-ac.de
SUMMARY:Kippt Ecuador wieder nach links?
DESCRIPTION:Analyse: Nach der Wahl (Online)\n\nOnline-Veranstaltung zu
 r Präsidentschaftswahl in Ecuador am 7. Februar mit Andrej Hunko\, Sev
 im Dağdelen und Valentina Škafar\nAm 7. Februar\, wird/wurde in Ecuado
 r gewählt. Aktuelle Umfragen deuten auf einen möglichen Sieg des linke
 n Kandidaten Andrés Arauz hin. In Folge des politischen Richtungswechs
 els Ende 2019 in Argentinien\, des Siegs der MAS gegen die Putschisten
  in Bolivien und der kürzlich begonnenen Verfassungsreform in Chile de
 utet sich in mehreren Ländern Lateinamerikas ein erneuter Linkskurs an
 . Ein Sieg des linken Kandidaten in Ecuador hätte eine politische Stra
 hlkraft über die Grenzen des Landes hinaus.\n\nAufgrund der überregion
 alen Bedeutung der Wahl und aufgrund von Komplikationen im Vorfeld sow
 ie der Befürchtung von Manipulationen werden unter anderem Wahlbeobach
 tungsmission der Europäischen Linken und der Progressiven Internationa
 len vor Ort sein.\nFür diese waren auch Heike Hänsel\, Sevim Dağdelen 
 und Andrej Hunko akkreditiert.\n\nAufgrund der verschärften Corona-Rüc
 kreisebedingungen mussten sie ihre Reise jedoch absagen. Wir werden di
 ese wichtige Wahl daher von Deutschland aus beobachten und freuen uns\
 , am Dienstag mit euch darüber zu diskutieren.\nAls Gäste in der Reihe
  „Andrej Hunko aktuell“ sprechen dazu:\n\n 	    Sevim Dağdelen\, Obfra
 u im Auswärtigen Ausschuss für die Fraktion DIE LINKE im Bundestag\n 	
 Valentina Škafar\, Mitglied der Lateinamerika-Gruppe des Vorstandes de
 r European Left. Sie ist als Internationale Wahlbeobachterin vor Ort u
 nd wird live aus Ecuador berichten.\n 	und Andrej Hunko MdB aus Aachen
 \n\nDie Veranstaltung findet live als Zoom-Konferenz statt und wird au
 f Facebook live übertragen.\n\nDem Zoom-Meeting beitreten:\nhttps://zo
 om.us/j/99696237752?pwd=cDVseUdEYk1TRWlBUmhVV0dleWlkQT09\nMeeting-ID: 
 996 9623 7752\nKenncode: 210107\nTermindaten\n\nDatum: 09.02.2021\, 19
 :00\nVeranstaltungsart: Online-Diskussion\nVeranstaltungsort: Zoom\, f
 acebook\nVeranstalter: Andrej Hunko\, MdB Die Linke\nLinks: andrej-hun
 ko.de\n\nsiehe auch amerika21
X-ALT-DESC;FMTTYPE=text/html:<h3>Analyse: Nach der Wahl <span style=co
 lor: #ff00ff>(Online)</span></h3>\n<p></p>\n<p><strong>Online-Veransta
 ltung zur Präsidentschaftswahl in Ecuador am 7. Februar mit Andrej Hun
 ko\, Sevim Dağdelen und Valentina Škafar</strong><br>\nAm 7. Februar\,
  wird/wurde in Ecuador gewählt. Aktuelle Umfragen deuten auf einen mög
 lichen Sieg des linken Kandidaten Andrés Arauz hin. In Folge des polit
 ischen Richtungswechsels Ende 2019 in Argentinien\, des Siegs der MAS 
 gegen die Putschisten in Bolivien und der kürzlich begonnenen Verfassu
 ngsreform in Chile deutet sich in mehreren Ländern Lateinamerikas ein 
 erneuter Linkskurs an. Ein Sieg des linken Kandidaten in Ecuador hätte
  eine politische Strahlkraft über die Grenzen des Landes hinaus.</p>\n
 <p>Aufgrund der überregionalen Bedeutung der Wahl und aufgrund von Kom
 plikationen im Vorfeld sowie der Befürchtung von Manipulationen werden
  unter anderem Wahlbeobachtungsmission der Europäischen Linken und der
  Progressiven Internationalen vor Ort sein.<br>\nFür diese waren auch 
 Heike Hänsel\, Sevim Dağdelen und Andrej Hunko akkreditiert.</p>\n<p>A
 ufgrund der verschärften Corona-Rückreisebedingungen mussten sie ihre 
 Reise jedoch absagen. Wir werden diese wichtige Wahl daher von Deutsch
 land aus beobachten und freuen uns\, am Dienstag mit euch darüber zu d
 iskutieren.<br>\nAls Gäste in der Reihe „Andrej Hunko aktuell“ spreche
 n dazu:</p>\n<ul>\n<li>    Sevim Dağdelen\, Obfrau im Auswärtigen Auss
 chuss für die Fraktion DIE LINKE im Bundestag</li>\n<li>Valentina Škaf
 ar\, Mitglied der Lateinamerika-Gruppe des Vorstandes der European Lef
 t. Sie ist als Internationale Wahlbeobachterin vor Ort und wird live a
 us Ecuador berichten.</li>\n<li>und Andrej Hunko MdB aus Aachen</li>\n
 </ul>\n<p>Die Veranstaltung findet live als Zoom-Konferenz statt und w
 ird auf Facebook live übertragen.</p>\n<p>Dem Zoom-Meeting beitreten:<
 br>\nhttps://zoom.us/j/99696237752?pwd=cDVseUdEYk1TRWlBUmhVV0dleWlkQT0
 9<br>\nMeeting-ID: 996 9623 7752<br>\nKenncode: 210107<br>\nTermindate
 n</p>\n<p>Datum: 09.02.2021\, 19:00<br>\nVeranstaltungsart: Online-Dis
 kussion<br>\nVeranstaltungsort: Zoom\, facebook<br>\nVeranstalter: And
 rej Hunko\, MdB Die Linke<br>\nLinks: andrej-hunko.de</p>\n<p><a href=
 https://amerika21.de/termin/2021/02/247625/kippt-ecuador-wieder-nach-l
 inks>siehe auch amerika21</a></p>\n
URL:https://kraz-ac.de/events/kippt-ecuador-wieder-nach-links?lang=de
ATTACH:https://kraz-ac.de/events/kippt-ecuador-wieder-nach-links?lang=
 de
END:VEVENT
END:VCALENDAR
