BEGIN:VCALENDAR
VERSION:2.0
METHOD:PUBLISH
PRODID:-//hacksw/handcal//NONSGML v1.0//EN
BEGIN:VEVENT
DTSTAMP:20260421T115820Z
DTSTART:20210207T130000Z
DTEND:20210207T150000Z
UID:20210207T130000Z-20210207T150000Z-736@kraz-ac.de
SUMMARY:Austausch und Vernetzung in Notstandssituation
DESCRIPTION:wie Corona auf gemeinsamer Wanderung\nAustausch und Vernet
 zung sind in der aktuellen Notstandssituation von großer Bedeutung.\nD
 aher wollen Niederländer und Deutsche sich am 7. Februar oben auf dem 
 Dreiländereck bei den drei Grenzsteinen um 14 Uhr treffen\, um von dor
 t gemeinsam eine bis anderthalb Stunden (je nach Wetter) zu wandern. (
 Von NL-Seite ganz durchfahren (-gehen)\, am großen Spielplatz vorbei b
 is zu den drei Grenzsteien\, die sich direkt vor dem hohen Aussichtstu
 rm auf (belgischer Seite) befinden. Dort kann man meistens auch auf de
 m kleinen Parkplatz parken (wenn sich nicht zu viele Fahrzeuge dort be
 finden. Von dort aus kann man zu wunderbaren Wanderungen aufbrechen.)\
 nAuf dem Weg durch den Wald werden sicher so manche interessante Infor
 mationen ausgetauscht.
X-ALT-DESC;FMTTYPE=text/html:<h3 class=moz-quote-pre>wie &#8222\;Coron
 a&#8220\; auf gemeinsamer Wanderung</h3>\n<p class=moz-quote-pre>Austa
 usch und Vernetzung sind in der aktuellen Notstandssituation von große
 r Bedeutung.<br>\nDaher wollen Niederländer und Deutsche sich am 7. Fe
 bruar oben auf dem Dreiländereck bei den drei Grenzsteinen um 14 Uhr t
 reffen\, um von dort gemeinsam eine bis anderthalb Stunden (je nach We
 tter) zu wandern. (Von NL-Seite ganz durchfahren (-gehen)\, am großen 
 Spielplatz vorbei bis zu den drei Grenzsteien\, die sich direkt vor de
 m hohen Aussichtsturm auf (belgischer Seite) befinden. Dort kann man m
 eistens auch auf dem kleinen Parkplatz parken (wenn sich nicht zu viel
 e Fahrzeuge dort befinden. Von dort aus kann man zu wunderbaren Wander
 ungen aufbrechen.)</p>\n<p class=moz-quote-pre>Auf dem Weg durch den W
 ald werden sicher so manche interessante Informationen ausgetauscht.</
 p>\n
URL:https://kraz-ac.de/events/austausch-und-vernetzung-in-notstandssit
 uation-2?lang=de
ATTACH:https://kraz-ac.de/events/austausch-und-vernetzung-in-notstands
 situation-2?lang=de
LOCATION:Dreiländer-Eck [B-D-NL]\, Viergrenzenweg\, NL 6291BM Vaals
END:VEVENT
END:VCALENDAR
