BEGIN:VCALENDAR
VERSION:2.0
METHOD:PUBLISH
PRODID:-//hacksw/handcal//NONSGML v1.0//EN
BEGIN:VEVENT
DTSTAMP:20260421T171213Z
DTSTART:20200501T100000Z
DTEND:20200501T120000Z
UID:20200501T100000Z-20200501T120000Z-656@kraz-ac.de
SUMMARY:1.Mai-Demo
DESCRIPTION:Demo fällt aus: Anti-Kriegs-Block\n\nDer DGB hat alle 1.Ma
 i-Kundgebungen abgesagt!\nDer kraz wurden leider keine weiteren Aktivi
 täten zum Thema in Aachen gemeldet!\n\n----------------\n\nFriedens- u
 nd Antikriegsgruppen werden an diesem 1.Mai auf der DGB-Demo in Aachen
  einen eigenen Block bilden.Auch auf der Kundgebung am Markt werden wi
 r einen kurzen Beitrag machen.\n\nAnlass ist die klare Absage an DEF20
 20\, das US-Manöver gegen Russland\, an dem sich auch Deutschland mit 
 aller Macht beteiligt.\n\nWir rufen auf\, sich an diesem Block zu bete
 iligen. Bringt Schilder mit!\n\nAufrufer ist das Bündnis: „Aachen gege
 n Kriegsmanöver – Stopp Defender 2020″\n\nA
X-ALT-DESC;FMTTYPE=text/html:<h3><span style=color: #ff0000>Demo fällt
  aus:</span> Anti-Kriegs-Block</h3>\n<p></p>\n<p><strong>Der DGB hat a
 lle 1.Mai-Kundgebungen abgesagt!<br>\nDer kraz</strong><strong> wurden
  leider keine weiteren Aktivitäten zum Thema in Aachen gemeldet!</stro
 ng><br>\n<br>\n&#8212\;&#8212\;&#8212\;&#8212\;&#8212\;-</p>\n<p>Fried
 ens- und Antikriegsgruppen werden an diesem 1.Mai auf der DGB-Demo in 
 Aachen einen eigenen Block bilden.Auch auf der Kundgebung am Markt wer
 den wir einen kurzen Beitrag machen.</p>\n<p>Anlass ist die klare Absa
 ge an DEF2020\, das US-Manöver gegen Russland\, an dem sich auch Deuts
 chland mit &#8222\;aller Macht&#8220\; beteiligt.</p>\n<p>Wir rufen au
 f\, sich an diesem Block zu beteiligen. Bringt Schilder mit!</p>\n<p>A
 ufrufer ist das Bündnis: „<strong>Aachen gegen Kriegsmanöver – Stopp D
 efender 2020″</strong><br>\n<br>\nA</p>\n
URL:https://kraz-ac.de/events/1-mai-demo?lang=de
ATTACH:https://kraz-ac.de/events/1-mai-demo?lang=de
LOCATION:DGB Haus\, DGB Haus\, Dennewartstr. 17 (Nähe Europaplatz)\, 5
 2068 Aachen\, Aachen
END:VEVENT
END:VCALENDAR
