BEGIN:VCALENDAR
VERSION:2.0
METHOD:PUBLISH
PRODID:-//hacksw/handcal//NONSGML v1.0//EN
BEGIN:VEVENT
DTSTAMP:20260421T170951Z
DTSTART:20200306T190000Z
DTEND:20200306T210000Z
UID:20200306T190000Z-20200306T210000Z-650@kraz-ac.de
SUMMARY:Information gegen das Angriffs-Manöver
DESCRIPTION:DEF2020 (auch in Aachen)\n\nin Aachen versucht ein breites
  Bündnis der Friedens- und Anti-Kriegsgruppen das gegen Russland geric
 htete laufende Manöver DEF2020 zu behindern!\n\nDazu gehört auch\, die
  Öffentlichkeit über die Ziele und Strukturen aufzuklären\, die mit di
 esem riesigen Manöver verbunden sind. Hierzu wird u.a. der MdB Andrej 
 Hunko (Die LINKE) gemeinsam mit anderen Personen der Aachener Friedens
 - und Antikriegsgruppen berichten. Außerdem wird vermittelt\, was wir 
 als Aachener gegen DEF2020 machen können.\n\nVeranstalter: „Aachen geg
 en Kriegsmanöver – Stopp Defender 2020″
X-ALT-DESC;FMTTYPE=text/html:<h3>DEF2020 (auch in Aachen)</h3>\n<p>in 
 Aachen versucht ein breites Bündnis der Friedens- und Anti-Kriegsgrupp
 en das gegen Russland gerichtete laufende Manöver DEF2020 zu behindern
 !</p>\n<p>Dazu gehört auch\, die Öffentlichkeit über die Ziele und Str
 ukturen aufzuklären\, die mit diesem riesigen Manöver verbunden sind. 
 Hierzu wird u.a. der MdB Andrej Hunko (Die LINKE) gemeinsam mit andere
 n Personen der Aachener Friedens- und Antikriegsgruppen berichten. Auß
 erdem wird vermittelt\, was wir als &#8222\;Aachener&#8220\; gegen DEF
 2020 machen können.</p>\n<p>Veranstalter: „<strong>Aachen gegen Kriegs
 manöver – Stopp Defender 2020″</strong></p>\n<pre class=western></pre>
 \n
URL:https://kraz-ac.de/events/information-gegen-das-angriffs-manover-k
 opie?lang=de
ATTACH:https://kraz-ac.de/events/information-gegen-das-angriffs-manove
 r-kopie?lang=de
LOCATION:Evangelischen Erwachsenenbildungswerk\, Frėre Roger Str. 8-10
 \, Aachen
END:VEVENT
END:VCALENDAR
