BEGIN:VCALENDAR
VERSION:2.0
METHOD:PUBLISH
PRODID:-//hacksw/handcal//NONSGML v1.0//EN
BEGIN:VEVENT
DTSTAMP:20260421T170456Z
DTSTART:20200320T160000Z
DTEND:20200320T190000Z
UID:20200320T160000Z-20200320T190000Z-645@kraz-ac.de
SUMMARY:Demonstration gegen Kriegsmanöver
DESCRIPTION:Fällt aus: Stopp DEF2020!\nwegen möglicher Absage siehe hi
 er:\nAufruf zu einer Demonstration am 20. März 2020 um 17 Uhr.\nDie De
 mo startet am Westbahnhof.\nVon dort gehen sie dann im  zick-zack-Verl
 auf hoch zur Turmstrasse auf die Brücke über die Bahngleise.\nWir scha
 uen uns die Gleise an\, über die die Panzerzüge von Antwerpen kommend 
 MITTEN DURCH Aachen in Richtung russische Grenze weiter fahren werden.
 \nDie Demo geht dann weiter über die Bärenstrasse - wo ebenfalls die G
 leise der Militärzüge sichtbar sind - zur Königstrasse (UNTER den Glei
 sen). Unten biegen wir ab in den Templergraben zur RWTH-Hauptgebäude u
 nd von dort zum Marktplatz.\nDort vor dem Rathaus wird die Abschlussku
 ndgebung mit einem politischen Appell sein!\n \n\nVeranstalter ist das
  Bündnis: Aachen gegen Kriegsmanöver - Stopp Defender 2020
X-ALT-DESC;FMTTYPE=text/html:<h3 class=western><span style=color: #ff0
 000>Fällt aus:</span> Stopp DEF2020!</h3>\n<p class=western>wegen mögl
 icher <a href=https://kraz-ac.de/absage-von-def2020-durch-die-bundeswe
 hr-6242>Absage siehe hier:</a><br>\n<strong>Aufruf zu einer Demonstrat
 ion am 20. März 2020 um 17 Uhr.</strong><br>\nDie Demo startet am West
 bahnhof.<br>\nVon dort gehen sie dann im  zick-zack-Verlauf hoch zur T
 urmstrasse auf die Brücke über die Bahngleise.<br>\nWir schauen uns di
 e Gleise an\, über die die Panzerzüge von Antwerpen kommend MITTEN DUR
 CH Aachen in Richtung russische Grenze weiter fahren werden.</p>\n<p c
 lass=western>Die Demo geht dann weiter über die Bärenstrasse &#8211\; 
 wo ebenfalls die Gleise der Militärzüge sichtbar sind &#8211\; zur Kön
 igstrasse (UNTER den Gleisen). Unten biegen wir ab in den Templergrabe
 n zur RWTH-Hauptgebäude und von dort zum Marktplatz.<br>\nDort vor dem
  Rathaus wird die Abschlusskundgebung mit einem politischen Appell sei
 n!</p>\n<p>&nbsp\;</p>\n<p>Veranstalter ist das Bündnis: &#8222\;<stro
 ng>Aachen gegen Kriegsmanöver &#8211\; Stopp Defender 2020&#8243\;</st
 rong></p>\n
URL:https://kraz-ac.de/events/demonstration-gegen-kriegsmanover?lang=d
 e
ATTACH:https://kraz-ac.de/events/demonstration-gegen-kriegsmanover?lan
 g=de
LOCATION:Westbahnhof\, Republikplatz\, Aachen
END:VEVENT
END:VCALENDAR
