BEGIN:VCALENDAR
VERSION:2.0
METHOD:PUBLISH
PRODID:-//hacksw/handcal//NONSGML v1.0//EN
BEGIN:VEVENT
DTSTAMP:20260421T080754Z
DTSTART:20260502T130000Z
DTEND:20260502T150000Z
UID:20260502T130000Z-20260502T150000Z-1387@kraz-ac.de
SUMMARY:Diplomatie statt Waffen und Sanktionen
DESCRIPTION:Die 46. Kundgebung - mit anschließendem Spaziergang \n\nMi
 t weißen Fahnen und Transparenten:\nUnd zwar am Samstag\, 2. Mai 2026\
 , um 15 Uhr.\n\nStart ist am Kugelbrunnen (Adalbertstr.) mit unserer 4
 6. Kundgebung gegen Krieg!\nDanach spazieren wir durch die Stadt vorbe
 i am Geldkreislaufbrunnen zum Markt\, dann durch die Großkölnstraße zu
 rück zum Kugelbrunnen.\nKommt alle! Wir müssen das Schweigen brechen\,
  in dem offensichtlich die Mehrheit verharrt!\nWenn wir nichts machen 
 wer dann?\n\nEin besonderer Programmpunkt dieser Kundgebung wird der V
 ortrag des 'Manifests 2026' des European Peace Projects sein < https:/
 /europeanpeaceproject.eu/project-2026/manifest-26-05-09-deutsch/ > - e
 igentlich soll dieses Manifest am 9. Mai\, dem 'Tag des Sieges'\, verl
 esen werden\, doch da am 14. Mai die 4. Verleihung der 'Aachener Ausze
 ichnung für Menschlichkeit' stattfindet\, haben wir den 9. Mai auf den
  2. Mai vorverlegt' - .\n\nVeranstalter: Das Aachener Bündnis „Diploma
 tie – statt Waffen und Sanktionen!“ (Aachener für eine menschliche Zuk
 unft\, Arbeitskreis GewerkschafterInnen Aachen\, Freie Linke Aachen\, 
 Friedensinitiative Querdenken 241 Aachen)
X-ALT-DESC;FMTTYPE=text/html:<h3><strong>Die 46. Kundgebung &#8211\; m
 it anschließendem Spaziergang </strong></h3>\n<p></p>\n<p><strong>Mit 
 weißen Fahnen und Transparenten:<br>\n</strong>Und zwar am Samstag\, 2
 . Mai 2026\, um 15 Uhr.</p>\n<p>Start ist am Kugelbrunnen (Adalbertstr
 .) mit unserer 46. Kundgebung gegen Krieg!<br>\nDanach spazieren wir d
 urch die Stadt vorbei am Geldkreislaufbrunnen zum Markt\, dann durch d
 ie Großkölnstraße zurück zum Kugelbrunnen.<br>\n<strong>Kommt alle! Wi
 r müssen das Schweigen brechen\, in dem offensichtlich die Mehrheit ve
 rharrt!</strong><br>\nWenn wir nichts machen wer dann?</p>\n<p>Ein bes
 onderer Programmpunkt dieser Kundgebung wird der Vortrag des <strong>&
 #8218\;Manifests 2026&#8216\;</strong> des <strong>European Peace Proj
 ects </strong>sein &lt\; <a href=https://europeanpeaceproject.eu/proje
 ct-2026/manifest-26-05-09-deutsch/>https://europeanpeaceproject.eu/pro
 ject-2026/manifest-26-05-09-deutsch/</a> &gt\; &#8211\; eigentlich sol
 l dieses Manifest am 9. Mai\, dem &#8218\;Tag des Sieges&#8216\;\, ver
 lesen werden\, doch da <strong>am 14. Mai</strong> die <strong>4. Verl
 eihung der &#8218\;Aachener Auszeichnung für Menschlichkeit&#8216\;</s
 trong> stattfindet\, haben wir den 9. Mai &#8222\;auf den 2. Mai vorve
 rlegt&#8216\; &#8211\; .</p>\n<p>Veranstalter: Das Aachener Bündnis „D
 iplomatie – statt Waffen und Sanktionen!“ (Aachener für eine menschlic
 he Zukunft\, Arbeitskreis GewerkschafterInnen Aachen\, Freie Linke Aac
 hen\, Friedensinitiative Querdenken 241 Aachen)</p>\n
URL:https://kraz-ac.de/events/diplomatie-statt-waffen-und-sanktionen-9
 ?lang=de
ATTACH:https://kraz-ac.de/events/diplomatie-statt-waffen-und-sanktione
 n-9?lang=de
LOCATION:Willi-Brand-Platz/ Kugelbrunnen\, Willi-Brand-Platz\, Aachen
END:VEVENT
END:VCALENDAR
