BEGIN:VCALENDAR
VERSION:2.0
METHOD:PUBLISH
PRODID:-//hacksw/handcal//NONSGML v1.0//EN
BEGIN:VEVENT
DTSTAMP:20260420T092059Z
DTSTART:20260208T100000Z
DTEND:20260208T120000Z
UID:20260208T100000Z-20260208T120000Z-1366@kraz-ac.de
SUMMARY:Der Abbau demokratischer Rechte
DESCRIPTION:vor dem Hintergrund der ‚Kriegstüchtigkeit\nEinladung zur 
 Sonntags-Matinee\nmit Rechtsanwalt Jürgen Schütte\n\n\n\n\n\n\nDer Abb
 au demokratischer Recht vor dem Hintergrund der ‚Kriegstüchtigkei‘\n\n
 Die jüngsten Entzüge von Grundrechten der Publizisten wie Jacques Baud
 \, Hüseyin Dogru oder Nathalie Yamb im Rahmen von EU-Sanktionen sind d
 ie Spitze eines Eisberges von Abbau demokratischer Rechte und Einschrä
 nkungen der Meinungsfreiheit. https://www.nachdenkseiten.de/?p=144677\
 n\nUnbestimmte Rechtsbegriffe wie ‚Desinformation‘ und neue Straftatbe
 stände\, oft im Zusammenspiel mit der EU\, zielen auf Kritiker der her
 rschenden Narrative und sollen die Bevölkerung einschüchtern. Seit Jah
 ren sinkt das Gefühl der Menschen die eigene Meinung gefahrlos äußern 
 zu können.\n\nDer Rechtsanwalt Jürgen Schütte\, Koordinator der Friede
 nsbündnisses NRW\, beleuchtet die rechtliche Dimension dieser Tendenz.
 \n\nModeration: Andrej Hunko\nSonntag\, 8. Februar\, 11-13 Uhr\nBSW-Bü
 ro\, Südstr. 53/55\, 52064 Aachen\n\nUm Anmeldung wird gebeten: teamaa
 chen@bsw-vg.nrw
X-ALT-DESC;FMTTYPE=text/html:<h3 id=m#msg-a:r-1150864012927593715 clas
 s=mail-message expanded><span style=font-size: 16px>vor dem Hintergrun
 d der ‚Kriegstüchtigkeit</span></h3>\n<div><strong>Einladung zur Sonnt
 ags-Matinee</strong></div>\n<div><strong>mit Rechtsanwalt Jürgen Schüt
 te</strong></div>\n<div id=m#msg-a:r-1150864012927593715 class=mail-me
 ssage expanded>\n<div id=m#msg-a:r-1150864012927593715-content class=m
 ail-message-content collapsible zoom-normal mail-show-images >\n<div c
 lass=clear>\n<div dir=auto>\n<div>\n<div dir=auto></div>\n<div dir=aut
 o><strong>Der Abbau demokratischer Recht vor dem Hintergrund der ‚Krie
 gstüchtigkei‘</strong></div>\n<div dir=auto></div>\n<div dir=auto>Die 
 jüngsten Entzüge von Grundrechten der Publizisten wie Jacques Baud\, H
 üseyin Dogru oder Nathalie Yamb im Rahmen von EU-Sanktionen sind die S
 pitze eines Eisberges von Abbau demokratischer Rechte und Einschränkun
 gen der Meinungsfreiheit. <a href=https://www.nachdenkseiten.de/?p=144
 677 target=_blank rel=noopener noreferrer data-saferedirecturl=https:/
 /www.google.com/url?q=https://www.nachdenkseiten.de/?p%3D144677&amp\;s
 ource=gmail&amp\;ust=1770329630648000&amp\;usg=AOvVaw2-iiwtW8-NslRAIr8
 uoJsY>https://www.nachdenkseiten.de/?p=144677</a></div>\n<div dir=auto
 ></div>\n<div dir=auto>Unbestimmte Rechtsbegriffe wie ‚Desinformation‘
  und neue Straftatbestände\, oft im Zusammenspiel mit der EU\, zielen 
 auf Kritiker der herrschenden Narrative und sollen die Bevölkerung ein
 schüchtern. Seit Jahren sinkt das Gefühl der Menschen die eigene Meinu
 ng gefahrlos äußern zu können.</div>\n<div dir=auto></div>\n<div dir=a
 uto>Der Rechtsanwalt Jürgen Schütte\, Koordinator der Friedensbündniss
 es NRW\, beleuchtet die rechtliche Dimension dieser Tendenz.</div>\n<d
 iv dir=auto></div>\n<div dir=auto>Moderation: Andrej Hunko</div>\n<div
  dir=auto>Sonntag\, 8. Februar\, 11-13 Uhr</div>\n<div dir=auto>BSW-Bü
 ro\, Südstr. 53/55\, 52064 Aachen</div>\n<div dir=auto></div>\n<div di
 r=auto>Um Anmeldung wird gebeten: teamaachen@bsw-vg.nrw</div>\n</div>\
 n</div>\n</div>\n</div>\n</div>\n
URL:https://kraz-ac.de/events/der-abbau-demokratischer-rechte
ATTACH:https://kraz-ac.de/events/der-abbau-demokratischer-rechte
LOCATION:BSW-Büro\, Südstr 53/55\, Aachen
END:VEVENT
END:VCALENDAR
