BEGIN:VCALENDAR
VERSION:2.0
METHOD:PUBLISH
PRODID:-//hacksw/handcal//NONSGML v1.0//EN
BEGIN:VEVENT
DTSTAMP:20260421T095631Z
DTSTART:20240923T070000Z
DTEND:20240923T100000Z
UID:20240923T070000Z-20240923T100000Z-1209@kraz-ac.de
SUMMARY:Immer noch Strafverfahren wegen Corona in Aachen!
DESCRIPTION:Die Drangsalierung einer Corona-Maßnahmen-GegnerIn nimmt k
 ein Ende\n\nAm Montag\, den 23.9. wird es eine erstaunliche Berufungsv
 erhandlung vor dem Landgericht im Justizzentrum in Aachen geben.\nUnte
 rstützerInnen sind erbeten und wilkommen!\n\nEine erneut Beklagte hatt
 e schon in 2023 eine Verhandlung gehabt\, wurde damals verurteilt und 
 bestraft. (siehe hier der Bericht)\nZur Anfechtung DIESES Urteils gibt
  es jetzt eine Berufungsverhandlung\, die die hiesige Staatsanwaltscha
 ft beantragt hat.\nDie Berufung hat also nicht die Verurteilte angestr
 engt\, sondern die Staatsanwaltschaft\, vermutlich weil ihr das bisher
 ige Urteil zu milde war.\nVerwirrend in dem Verfahren\nDie letzte Vorl
 adung der Angeklagten durch das Landgericht enthält eine eigenartige F
 ormulierung\, die eine Verwechslung oder gar eine Verwirrung anzeigt: 
 In dem Schreiben der Justizverwaltung  wird behauptet\, die Angeklagte
 /Verurteilte hätte SELBER Berufung eingelegt\, was diese aber in aller
  Klarheit und Schärfe zurückweist.\n==> Kommt zu dem Prozess!\nAm Mont
 ag werden wir sehen können wie sich diese Verwirrung aufklärt!\nIm Lan
 dgericht im Justizzentrum\, Adalbertsteinweg\, um 9 Uhr im Saal A 0.02
 1.\nUnterstützer sind erbeten und wilkommen!\nAnmerkung\nweiter links:
 \n\n> AK-Gewerkschaft Meldung-1\n\n\n> AK-Gewerkschaft Meldung-2\n\n\n
  
X-ALT-DESC;FMTTYPE=text/html:<h3>Die Drangsalierung einer Corona-Maßna
 hmen-GegnerIn nimmt kein Ende</h3>\n<p>Am Montag\, den 23.9. wird es e
 ine erstaunliche &#8222\;Berufungsverhandlung&#8220\; vor dem Landgeri
 cht im Justizzentrum in Aachen geben.<br>\nUnterstützerInnen sind erbe
 ten und wilkommen!</p>\n<p>Eine erneut Beklagte hatte schon in 2023 ei
 ne Verhandlung gehabt\, wurde damals verurteilt und bestraft. (<a href
 =https://kraz-ac.de/ein-ungerechtes-urteil-9346>siehe hier der Bericht
 </a>)<br>\nZur Anfechtung DIESES Urteils gibt es jetzt eine Berufungsv
 erhandlung\, die die hiesige Staatsanwaltschaft beantragt hat.<br>\nDi
 e Berufung hat also nicht die Verurteilte angestrengt\, sondern die St
 aatsanwaltschaft\, vermutlich weil ihr das bisherige Urteil zu milde w
 ar.</p>\n<h4>Verwirrend in dem Verfahren</h4>\n<p>Die letzte Vorladung
  der Angeklagten durch das Landgericht enthält eine eigenartige Formul
 ierung\, die eine Verwechslung oder gar eine Verwirrung anzeigt: In de
 m Schreiben der Justizverwaltung  wird behauptet\, die Angeklagte/Veru
 rteilte hätte SELBER Berufung eingelegt\, was diese aber in aller Klar
 heit und Schärfe zurückweist.</p>\n<h4>==&gt\; Kommt zu dem Prozess!</
 h4>\n<p>Am Montag werden wir sehen können wie sich diese Verwirrung au
 fklärt!<br>\nIm Landgericht im Justizzentrum\, Adalbertsteinweg\, um 9
  Uhr im Saal A 0.021.<br>\nUnterstützer sind erbeten und wilkommen!</p
 >\n<h4>Anmerkung</h4>\n<p>weiter links:</p>\n<p><strong>&gt\; <a href=
 http://ak-gewerkschafter.com/am-montag-den-23-september-2024-um-09-00-
 uhr-findet-vor-dem-landgericht-aachen-adalbertsteinweg-92-52070-aachen
 -saal-a-0-021-letitia-burciu-gerths-berufungsverhandlung-statt/ !>AK-G
 ewerkschaft Meldung-1</a><br>\n</strong></p>\n<p><strong>&gt\; <a href
 =http://ak-gewerkschafter.com/laurenz-nurk-informiert-uns-mit-seinem-z
 weiten-newsletter-im-monat-september-2024/ !>AK-Gewerkschaft Meldung-2
 </a><br>\n</strong><br>\n<br>\n&nbsp\;</p>\n
URL:https://kraz-ac.de/events/immer-noch-strafverfahren-wegen-corona-i
 n-aachen?lang=de
ATTACH:https://kraz-ac.de/events/immer-noch-strafverfahren-wegen-coron
 a-in-aachen?lang=de
LOCATION:Justizzentrum Aachen\, Adalberststeinweg 92\, Aachen
END:VEVENT
END:VCALENDAR
