BEGIN:VCALENDAR
VERSION:2.0
METHOD:PUBLISH
PRODID:-//hacksw/handcal//NONSGML v1.0//EN
BEGIN:VEVENT
DTSTAMP:20260420T102759Z
DTSTART:20240907T131500Z
DTEND:20240907T150000Z
UID:20240907T131500Z-20240907T150000Z-1205@kraz-ac.de
SUMMARY:Die 26. Kundgebung gegen Krieg
DESCRIPTION:in einer Zeit\, in der\n\n 	- deutsche Panzer innerhalb de
 s NATO-geführten Kursk-Angriffs der Kiew-Ukraine wieder in Russland ei
 ndringen - 83 Jahre nach dem Überfall der deutschen Wehrmacht auf die 
 Sowjetunion\, der 27 Millionen Sowjetbürger das Leben gekostet hat\,\n
  	- unter Bruch der im Grundgesetzartikel 5 festgeschriebenen Meinungs
 freiheit das 'Compact-Magazin' verboten wurde\, der Gründers und Chef 
 von Telegram\, Pavel Durov\, in Frankreich festgenommen wurde und die 
 Landesmedienanstalt von NRW dem 'Multipolar-Magazin' ein Verwaltungsve
 rfahren androht\,\n\nwollen wir ALLE diesem Wahnsinn etwas entgegenset
 zen!\n\nDazu treffen wir uns am Samstag\, 7.September\, um 15:15 Uhr a
 m Elisenbrunnen zur 26. Kundgebung gegen Krieg!!!\nIn Reden wollen wir
  die katastrophale Politik anprangern.\nDen musikalischen Rahmen gesta
 lten die 'Sockosophen'.\n\nMit weißen Fahnen zeigen wir wieder\, dass 
 nur Diplomatie und nicht Waffen und Sanktionen zu einem Ende der Krieg
 e führen kann.\n\nNach einer Auftaktkundgebung ziehen wir über den Kap
 uzinergraben und die Kleinmarschierstraße zum Markt\, dort: Zwischenku
 ndgebung\; über die Großköln-\, Kurhaus- und Peter-Straße zurück zur A
 bschlusskundgebung am Elisenbrunnen.\n\nVeranstalter: Aachener Bündnis
  „Diplomatie statt Waffen und Sanktionen!“ (Aachener für eine menschli
 che Zukunft\, Arbeitskreis GewerkschafterInnen Aachen\, Freie Linke Aa
 chen\, Friedensinitiative Querdenken 241 Aachen)
X-ALT-DESC;FMTTYPE=text/html:<h3>in einer Zeit\, in der</h3>\n<ul>\n<l
 i>&#8211\; deutsche Panzer innerhalb des NATO-geführten Kursk-Angriffs
  der Kiew-Ukraine wieder in Russland eindringen &#8211\; 83 Jahre nach
  dem Überfall der deutschen Wehrmacht auf die Sowjetunion\, der 27 Mil
 lionen Sowjetbürger das Leben gekostet hat\,</li>\n<li>&#8211\; unter 
 Bruch der im Grundgesetzartikel 5 festgeschriebenen Meinungsfreiheit d
 as &#8218\;Compact-Magazin&#8216\; verboten wurde\, der Gründers und C
 hef von Telegram\, Pavel Durov\, in Frankreich festgenommen wurde und 
 die Landesmedienanstalt von NRW dem &#8218\;Multipolar-Magazin&#8216\;
  ein Verwaltungsverfahren androht\,</li>\n</ul>\n<p>wollen wir ALLE di
 esem Wahnsinn etwas entgegensetzen!</p>\n<p>Dazu treffen wir uns am Sa
 mstag\, 7.September\, um 15:15 Uhr am Elisenbrunnen zur 26. Kundgebung
  gegen Krieg!!!<br>\nIn Reden wollen wir die katastrophale Politik anp
 rangern.<br>\nDen musikalischen Rahmen gestalten die &#8218\;Sockosoph
 en&#8216\;.</p>\n<p>Mit weißen Fahnen zeigen wir wieder\, dass nur Dip
 lomatie und nicht Waffen und Sanktionen zu einem Ende der Kriege führe
 n kann.</p>\n<p>Nach einer Auftaktkundgebung ziehen wir über den Kapuz
 inergraben und die Kleinmarschierstraße zum Markt\, dort: Zwischenkund
 gebung\; über die Großköln-\, Kurhaus- und Peter-Straße zurück zur Abs
 chlusskundgebung am Elisenbrunnen.</p>\n<p>Veranstalter: Aachener Bünd
 nis „Diplomatie statt Waffen und Sanktionen!“ (Aachener für eine mensc
 hliche Zukunft\, Arbeitskreis GewerkschafterInnen Aachen\, Freie Linke
  Aachen\, Friedensinitiative Querdenken 241 Aachen)</p>\n
URL:https://kraz-ac.de/events/die-26-kundgebung-gegen-krieg?lang=de
ATTACH:https://kraz-ac.de/events/die-26-kundgebung-gegen-krieg?lang=de
LOCATION:Elisenbrunnen\, Friedrich-Wilhelm-Platz 1\, 52064 Aachen
END:VEVENT
END:VCALENDAR
