BEGIN:VCALENDAR
VERSION:2.0
METHOD:PUBLISH
PRODID:-//hacksw/handcal//NONSGML v1.0//EN
BEGIN:VEVENT
DTSTAMP:20260421T114534Z
DTSTART:20240504T130000Z
DTEND:20240504T150000Z
UID:20240504T130000Z-20240504T150000Z-1159@kraz-ac.de
SUMMARY:22. Kundgebung gegen Krieg!
DESCRIPTION:Kundgebung (im 'Hof'!) mit anschließender Demo\n\nErneut l
 ädt das Aachener Bündnis ‚Diplomatie statt Waffen und Sanktionen!’ [1]
  zur 22. Kundgebung gegen Krieg ein\; und zwar zu Samstag\, 4. Mai 202
 4\, 15 Uhr am Hof (geänderter Ort beim Domkeller!!) ein.\nAnschließend
  werden wir eine Demo zum Markt\, Großkölnstrasse \, Kugelbrunnen\, El
 isenbrunnen und dann wieder zum Hof machen.\n\nBringt bitte wieder wei
 ße Fahnen mit - als Symbol für 'Diplomatie statt Waffen und Sanktionen
 '!\n\nAnmerkung\n[1] Aachener für eine menschliche Zukunft\, Arbeitskr
 eis GewerkschafterInnen Aachen\, Freie Linke Aachen\, Friedensinitiati
 ve Querdenken 241 Aachen
X-ALT-DESC;FMTTYPE=text/html:<h3>Kundgebung (<span style=color: #ff000
 0>im &#8218\;Hof&#8216\;!)</span> mit anschließender Demo</h3>\n<p>Ern
 eut lädt das Aachener Bündnis ‚Diplomatie statt Waffen und Sanktionen!
 ’ [1] zur 22. Kundgebung gegen Krieg ein\; und zwar zu Samstag\, 4. Ma
 i 2024\, 15 Uhr <span style=color: #ff0000>am Hof (geänderter Ort beim
  Domkeller!!</span>) ein.<br>\nAnschließend werden wir eine Demo zum M
 arkt\, Großkölnstrasse \, Kugelbrunnen\, Elisenbrunnen und dann wieder
  zum Hof machen.</p>\n<p><strong>Bringt bitte wieder weiße Fahnen mit 
 &#8211\; als Symbol für &#8218\;Diplomatie statt Waffen und Sanktionen
 &#8216\;!</strong><br>\n<br>\nAnmerkung<br>\n[1] Aachener für eine men
 schliche Zukunft\, Arbeitskreis GewerkschafterInnen Aachen\, Freie Lin
 ke Aachen\, Friedensinitiative Querdenken 241 Aachen</p>\n
URL:https://kraz-ac.de/events/22-kundgebung-gegen-krieg?lang=de
ATTACH:https://kraz-ac.de/events/22-kundgebung-gegen-krieg?lang=de
LOCATION:Hof (Nähe Domkeller)\, \, 52062 Aachen
END:VEVENT
END:VCALENDAR
