BEGIN:VCALENDAR
VERSION:2.0
METHOD:PUBLISH
PRODID:-//hacksw/handcal//NONSGML v1.0//EN
BEGIN:VEVENT
DTSTAMP:20260421T081607Z
DTSTART:20240516T160000Z
DTEND:20240516T173000Z
UID:20240516T160000Z-20240516T173000Z-1156@kraz-ac.de
SUMMARY:Verleihung der 'Aachener Auszeichnung für Menschlichkeit' 2024
DESCRIPTION:an Dr. Daniele Ganser\n\nam 16. Mai 2024\, 18 - 19:30 Uhr\
 , Kurpark an der Monheimsallee\n\nDiese Preisverleihung ist\n\n 	VOR d
 em Vortrag von Herrn Ganser\n 	räumlich VOR dem Eurogress\n 	und ==> u
 msonst  Eintrit
 tskarten hier: https://krasser.guru/veranstaltungen/daniele-ganser-aac
 hen/)\n\nVeranstalter:\nAachener Bündnis: 'Diplomatie statt Waffen und
  Sanktionen!' (Aachener für eine menschliche Zukunft\, Arbeitskreis Ge
 werkschafterInnen Aachen\, Freie Linke Aachen \, Friedensinitiative Qu
 erdenken 241 Aachen)\n\n 
X-ALT-DESC;FMTTYPE=text/html:<h3>an Dr. Daniele Ganser</h3>\n<p>am 16.
  Mai 2024\, 18 &#8211\; 19:30 Uhr\, Kurpark an der Monheimsallee</p>\n
 <p>Diese Preisverleihung ist</p>\n<ul>\n<li><strong>VOR dem Vortrag vo
 n Herrn Ganser</strong></li>\n<li><strong>r</strong><strong>äumlich VO
 R dem Eurogress</strong></li>\n<li><strong>und ==&gt\; umsonst &lt\;==
 </strong></li>\n</ul>\n<p>Der Preisträger diesen Jahres ist genau der 
 Daniele Ganser\,<a href=https://kraz-ac.de/naechste-runde-im-zensurver
 such-gegen-daniele-ganser-9079> gegen den im vorigen Jahr aus Anlass s
 eines Vortrages im Eurogress in Aachen Sturm gelaufen wurde</a>\, und 
 zwar von allen im Stadtrat vertretenen Parteien und vielen Organisatio
 nen\, darunter z.B. der &#8218\;Aachener Friedenspreis&#8216\;\; Danie
 le Ganser wurde als &#8218\;Verschwörungsguru&#8216\; beschimpft und m
 an wollte seinen Auftritt in Aachen verhindern\, was dank des klugen V
 erhaltens der Aachener Verwaltung nicht gelang. Der große Saal im Euro
 gress war bis auf den letzten Platz gefüllt\, und das wird in diesem J
 ahr wahrscheinlich wieder so sein\, wenn Dr. Ganser im Anschluss an di
 e Verleihung der &#8218\;Aachener Auszeichnung für Menschlichkeit&#821
 6\; um 20 Uhr im Eurogress zum Thema &#8218\;Weltfrieden&#8216\; sprec
 hen wird (siehe unten).</p>\n<p><strong>Warum wird Ganser vom Mainstre
 am angefeindet?</strong><br>\nDr. Daniele Ganser erzählt eben nicht da
 s verordnete Narrativ: &#8222\;Wir\, der &#8218\;Wertewesten&#8216\;\,
  sind die &#8218\;Guten&#8216\; und wir können uns gegen das &#8218\;B
 öse&#8216\; alles erlauben. Ganser zerlegt diese Lebenslüge des &#8218
 \;Wertewestens&#8216\;\, indem er die Realität schonungslos analysiert
  und Fakten sprechen lässt.</p>\n<p>Schon als Ganser in seiner Doktora
 rbeit Fakten über die &#8218\;NATO-Geheimarmeen&#8216\; (Gladio) öffen
 tlich machte\, wurde er &#8218\;umstritten&#8216\; tituliert und als e
 r nach dem Terrorakt &#8218\;9/11&#8216\; die &#8218\;offizielle&#8216
 \; Ursache des Zusammenstürzens des Turms Nr. 7 des World Trade Center
 s anzweifelte &#8211\; inzwischen ist klar erwiesen\, dass Feuer allei
 n auf keinen Fall die Ursache war &#8211\; schritt sofort die US-Botsc
 hafterin in der Schweiz ein und erreichte\, dass Ganser seine zwei Doz
 enturen an Schweizer Hochschulen verlor und er wurde fortan im Mainstr
 eam &#8218\;Verschwörungstheoretiker&#8216\; genannt.  Vollends ins Sc
 hussfeld geriet er mit seinen Büchern: &#8222\;<strong>Illegale Kriege
 </strong> &#8211\; Wie die NATO-Länder die UNO sabotieren: Eine Chroni
 k von Kuba bis Syrien&#8220\; und &#8222\;<strong>Imperium USA</strong
 > &#8211\; Die skrupellose Weltmacht&#8220\;.</p>\n<p>Gansers Feinde s
 ollten bedenken: wer mit dem Finger auf jemand zeigt\, auf den zeigen 
 3 Finger zurück!</p>\n<p><strong>Die Laudatio wird der Träger der &#82
 18\;Aachener Auszeichnung für Menschlichkeit&#8216\; 2023\, Dr. Eugen 
 Drewerman\, halten</strong> (per Video)</p>\n<p>Der musikalische Rahme
 n wir u.a. von der Friedenssängerin Blue Flower gestaltet.</p>\n<p>Ans
 chließend wird um 20 Uhr Dr. Daniele Ganser im Eurogress einen Vortrag
  zum Thema „Weltfrieden“ halten\;<br>\n(==&gt\; Eintrittskarten hier: 
 <a href=https://krasser.guru/veranstaltungen/daniele-ganser-aachen/ ta
 rget=_blank rel=noopener>https://krasser.guru/veranstaltungen/daniele-
 ganser-aachen/</a>)</p>\n<p><strong>Veranstalter:</strong><br>\nAachen
 er Bündnis: &#8218\;Diplomatie statt Waffen und Sanktionen!&#8216\; (A
 achener für eine menschliche Zukunft\, Arbeitskreis GewerkschafterInne
 n Aachen\, Freie Linke Aachen \, Friedensinitiative Querdenken 241 Aac
 hen)</p>\n<p>&nbsp\;</p>\n
URL:https://kraz-ac.de/events/verleihung-der-aachener-auszeichnung-fue
 r-menschlichkeit-2024?lang=de
ATTACH:https://kraz-ac.de/events/verleihung-der-aachener-auszeichnung-
 fuer-menschlichkeit-2024?lang=de
LOCATION:Kurpark Monheimsallee\, Monheimsallee 48\, 52062 Aachen
END:VEVENT
END:VCALENDAR
