BEGIN:VCALENDAR
VERSION:2.0
METHOD:PUBLISH
PRODID:-//hacksw/handcal//NONSGML v1.0//EN
BEGIN:VEVENT
DTSTAMP:20260421T123114Z
DTSTART:20231111T120000Z
DTEND:20231111T150000Z
UID:20231111T120000Z-20231111T150000Z-1100@kraz-ac.de
SUMMARY:Party zum Kick-off einer neue Sensorstation
DESCRIPTION:vom TDRM-Radioaktivitäts-Netzwerk\n\nNach langer Zeit meld
 et sich das TDRM-Team.\nJa\, wir sind immer noch aktiv -- nach nunmehr
  fast genau 7 Jahren!\nDas Monitoring-Netz wir weiterhin gepflegt. Hin
  und wieder kommt sogar noch eine Station dazu. An einem Re-Design uns
 erer Website wird gearbeitet. Aber das wichtigste:\n\nWir haben ein ne
 ues Projekt in Arbeit!\n\nMitte des letzten Jahres startete Peter Kämm
 erling mit der Entwicklung einer neuen universellen Sensorstation. Sie
  wird eine Plattform für unterschiedliche Sensoren und vielfältige Anw
 endungen werden und autark bezüglich Energieversorgung sowie mit der n
 euartigen LoRa-Kommunikation flexibel in der Aufstellung sein. Peter k
 onnte für dieses Projekt schon im letzten Jahr eine kleine Anschubfina
 nzierung von der Deutschen Stiftung für Engagement und Ehrenamt e.V. (
 DSEE) einwerben und in diesem Jahr\, ebenfalls von der DSEE\, eine ric
 htig kräftige Unterstützung! Alles weitere hier:\n\n==> https://blog.f
 iff.de/neue_umweltsensorstation_-_einladung_zur_pressekonferenz_und_zu
 r-kickoff-party/\n==> https://blog.fiff.de/weiterentwicklung-einer-uni
 versellen-umweltsensorstation-2/\n\nHerzlich eingeladen sind alle Inte
 ressierten zum Kick-off des Projektes am Freitag\, den 10.11.2023 im W
 elthaus an der Schanz.\nWir beginnen mit einer Pressekonferenz ab 10h\
 , und um 13h startet unsere Kickoff-Party mit Speis und Trank.\n\nHerz
 liche Grüße\,\ndas TDRM-Team
X-ALT-DESC;FMTTYPE=text/html:<h3>vom TDRM-Radioaktivitäts-Netzwerk</h3
 >\n<p>Nach langer Zeit meldet sich das TDRM-Team.<br>\nJa\, wir sind i
 mmer noch aktiv &#8212\; nach nunmehr fast genau 7 Jahren!<br>\nDas Mo
 nitoring-Netz wir weiterhin gepflegt. Hin und wieder kommt sogar noch 
 eine Station dazu. An einem Re-Design unserer Website wird gearbeitet.
  Aber das wichtigste:</p>\n<p>Wir haben ein neues Projekt in Arbeit!</
 p>\n<p>Mitte des letzten Jahres startete Peter Kämmerling mit der Entw
 icklung einer neuen universellen Sensorstation. Sie wird eine Plattfor
 m für unterschiedliche Sensoren und vielfältige Anwendungen werden und
  autark bezüglich Energieversorgung sowie mit der neuartigen LoRa-Komm
 unikation flexibel in der Aufstellung sein. Peter konnte für dieses Pr
 ojekt schon im letzten Jahr eine kleine Anschubfinanzierung von der De
 utschen Stiftung für Engagement und Ehrenamt e.V. (DSEE) einwerben und
  in diesem Jahr\, ebenfalls von der DSEE\, eine richtig kräftige Unter
 stützung! Alles weitere hier:</p>\n<p>==&gt\; <a href=https://blog.fif
 f.de/neue_umweltsensorstation_-_einladung_zur_pressekonferenz_und_zur-
 kickoff-party/>https://blog.fiff.de/neue_umweltsensorstation_-_einladu
 ng_zur_pressekonferenz_und_zur-kickoff-party/</a><br>\n==&gt\; <a href
 =https://blog.fiff.de/weiterentwicklung-einer-universellen-umweltsenso
 rstation-2/>https://blog.fiff.de/weiterentwicklung-einer-universellen-
 umweltsensorstation-2/</a></p>\n<p>Herzlich eingeladen sind alle Inter
 essierten zum Kick-off des Projektes am Freitag\, den 10.11.2023 im We
 lthaus an der Schanz.<br>\nWir beginnen mit einer Pressekonferenz ab 1
 0h\, und um 13h startet unsere Kickoff-Party mit Speis und Trank.</p>\
 n<p>Herzliche Grüße\,<br>\ndas TDRM-Team</p>\n
URL:https://kraz-ac.de/events/party-zum-kick-off-einer-neue-sensorstat
 ion?lang=de
ATTACH:https://kraz-ac.de/events/party-zum-kick-off-einer-neue-sensors
 tation?lang=de
LOCATION:Aula Welthaus\, An der Schanz 1\, Aachen
END:VEVENT
END:VCALENDAR
