BEGIN:VCALENDAR
VERSION:2.0
METHOD:PUBLISH
PRODID:-//hacksw/handcal//NONSGML v1.0//EN
BEGIN:VEVENT
DTSTAMP:20260421T092752Z
DTSTART:20230901T160000Z
DTEND:20230901T171500Z
UID:20230901T160000Z-20230901T171500Z-1070@kraz-ac.de
SUMMARY:Antikriegskundgebung
DESCRIPTION:mit anschließender Demonstration zum 1. September\n\nauch 
 am diesjährigen Antikriegstag im zweiten Jahr des Ukrainekrieges wolle
 n wir mit einer Antikriegskundgebung und Demonstration für einen sofor
 tigen Waffenstillstand und eine diplomatische Lösung eintreten. [1]\n\
 nDas Sterben in der Ukraine muss ein Ende haben!\n\nWir fordern von de
 r Bundesregierung das Ende der Waffenlieferungen an die Ukraine.\nWaff
 enlieferungen verlängern nur den Krieg und das bedeutet täglich mehr T
 ote in der Ukraine und massive Zerstörungen. Die Bundesregierung muss 
 sich für Verhandlungen statt Krieg einsetzen. Die Bundesregierung muss
  aufhören mit der Hochrüstungs-Eskalation\, die Milliarden verschlingt
 \, Milliarden\, die für soziale Leistungen sinnvoll eingesetzt werden 
 könnten.\n\nWir fordern ein Ende der Militarisierung ganzer Lebensbere
 iche\, die gerade stattfindet:\n\n 	In Schulen sollen Soldaten für den
  Soldatenberuf verstärkt werben dürfen\n 	An den Hochschulen sollen di
 e sog. Zivilklauseln\, d.h. die Verpflichtung nur für zivile Zwecke zu
  forschen\, fallen.\n 	in den Medien kommen nahezu ausschließlich Krie
 gsbefürworter zu Wort.\n 	Kriegsgegner*innen werden als Lumpenpazifist
 en diffamiert und als politische Outlaws gebrandmarkt.\n\nWir fordern 
 alle Kriegsgegner*innen auf:\nBeteiligt Euch an Kundgebung und anschli
 eßender Demonstration am 1. September 2023.\nOrt: Elisenbrunnen\,\nBeg
 inn um 18 Uhr\n\nDie Losung von Berta Suttner\, die 1905 als erste Fra
 u den Friedensnobelpreis erhielt\, ist aktuell wie nie:\nDIE WAFFEN NI
 EDER!\n\nVeranstalter: Antikriegsbündnis Aachen\n\n[1] Anmerkung kraz:
  Klassisch hat am 1. September immer eine Demo des DGB-Aachen stattgef
 unden. Diese fällt aber diese Jahr erneut aus.\nHier ein Hinweis von M
 anni Engelhardt vom AK-KGewerkschafter\n...  der DGB-Aachen hat die fa
 tale Entscheidung getroffen\, die diesjährige Kundgebung/Demo zum Anti
 kriegstag zugunsten einer Veranstaltung mit der VHS ausfallen zu lasse
 n.\nWir haben es für nötig befunden\, darauf die passende Antwort zu g
 eben\, die Ihr\, wenn Ihr es möchtet\, per E-Mail an manni@manfredenge
 lhardt.de gerne ergänzen könnt. Der Klick auf den nachstehenden Link f
 ührt Euch direkt auf unseren Beitrag: http://ak-gewerkschafter.com/der
 -dgb-region-nrw-suedwest-laesst-die-kundgebung-zum-antikriegstag-2023-
 ausfallen-wir-kommentieren-das-als-ak-und-sagen-dass-das-ein-grosser-f
 ehler-ist/ !\n\n 
X-ALT-DESC;FMTTYPE=text/html:<h3>mit anschließender Demonstration zum 
 1. September</h3>\n<p>auch am diesjährigen Antikriegstag im zweiten Ja
 hr des Ukrainekrieges wollen wir mit einer Antikriegskundgebung und De
 monstration für einen sofortigen Waffenstillstand und eine diplomatisc
 he Lösung eintreten. [1]</p>\n<p>Das Sterben in der Ukraine muss ein E
 nde haben!</p>\n<p>Wir fordern von der Bundesregierung das Ende der Wa
 ffenlieferungen an die Ukraine.<br>\nWaffenlieferungen verlängern nur 
 den Krieg und das bedeutet täglich mehr Tote in der Ukraine und massiv
 e Zerstörungen. Die Bundesregierung muss sich für Verhandlungen statt 
 Krieg einsetzen. Die Bundesregierung muss aufhören mit der Hochrüstung
 s-Eskalation\, die Milliarden verschlingt\, Milliarden\, die für sozia
 le Leistungen sinnvoll eingesetzt werden könnten.</p>\n<p>Wir fordern 
 ein Ende der Militarisierung ganzer Lebensbereiche\, die gerade stattf
 indet:</p>\n<ul>\n<li>In Schulen sollen Soldaten für den Soldatenberuf
  verstärkt werben dürfen</li>\n<li>An den Hochschulen sollen die sog. 
 &#8222\;Zivilklauseln&#8220\;\, d.h. die Verpflichtung nur für zivile 
 Zwecke zu forschen\, fallen.</li>\n<li>in den Medien kommen nahezu aus
 schließlich Kriegsbefürworter zu Wort.</li>\n<li>Kriegsgegner*innen we
 rden als &#8222\;Lumpenpazifisten&#8220\; diffamiert und als politisch
 e Outlaws gebrandmarkt.</li>\n</ul>\n<p>Wir fordern alle Kriegsgegner*
 innen auf:<br>\n<strong>Beteiligt Euch an Kundgebung und anschließende
 r Demonstration am 1. September 2023.</strong><br>\nOrt: Elisenbrunnen
 \,<br>\nBeginn um 18 Uhr</p>\n<p>Die Losung von Berta Suttner\, die 19
 05 als erste Frau den Friedensnobelpreis erhielt\, ist aktuell wie nie
 :<br>\n<strong>DIE WAFFEN NIEDER!</strong><br>\n<br>\nVeranstalter: An
 tikriegsbündnis Aachen</p>\n<p><strong>[1] Anmerkung kraz: </strong>Kl
 assisch hat am 1. September immer eine Demo des DGB-Aachen stattgefund
 en. Diese fällt aber diese Jahr erneut aus.<br>\nHier ein Hinweis von 
 Manni Engelhardt vom AK-KGewerkschafter<br>\n<em>&#8230\;  der DGB-Aac
 hen hat die fatale Entscheidung getroffen\, die diesjährige Kundgebung
 /Demo zum Antikriegstag zugunsten einer Veranstaltung mit der VHS ausf
 allen zu lassen.</em><br>\n<em>Wir haben es für nötig befunden\, darau
 f die passende Antwort zu geben\, die Ihr\, wenn Ihr es möchtet\, per 
 E-Mail an manni@manfredengelhardt.de gerne ergänzen könnt. Der Klick a
 uf den nachstehenden Link führt Euch direkt auf unseren Beitrag: <a hr
 ef=http://ak-gewerkschafter.com/der-dgb-region-nrw-suedwest-laesst-die
 -kundgebung-zum-antikriegstag-2023-ausfallen-wir-kommentieren-das-als-
 ak-und-sagen-dass-das-ein-grosser-fehler-ist/>http://ak-gewerkschafter
 .com/der-dgb-region-nrw-suedwest-laesst-die-kundgebung-zum-antikriegst
 ag-2023-ausfallen-wir-kommentieren-das-als-ak-und-sagen-dass-das-ein-g
 rosser-fehler-ist/</a> !</em><br>\n<br>\n&nbsp\;</p>\n
URL:https://kraz-ac.de/events/antikriegskundgebung?lang=de
ATTACH:https://kraz-ac.de/events/antikriegskundgebung?lang=de
LOCATION:Elisenbrunnen\, Friedrich-Wilhelm-Platz\, 52062 Aachen
END:VEVENT
END:VCALENDAR
