BEGIN:VCALENDAR
VERSION:2.0
METHOD:PUBLISH
PRODID:-//hacksw/handcal//NONSGML v1.0//EN
BEGIN:VEVENT
DTSTAMP:20260421T095752Z
DTSTART:20230830T170000Z
DTEND:20230830T190000Z
UID:20230830T170000Z-20230830T190000Z-1069@kraz-ac.de
SUMMARY:Aufrüstung für den Frieden?
DESCRIPTION:IMI-Vortrag mit Diskussion \n\nJürgen Wagner\, Geschäftsfü
 hrer Informationsstelle Militarisierung (IMI) kommt am 30. August nach
  Aachen.\n\nEr wird um 19:00 Uhr im Forum der Volkshochschule\, Raum 2
 41 seine antimilitaristische Position darlegen. Eine Anmeldung erfolgt
  unter der Kurs Nummer 232-03304 bei der VHS Aachen. Aufgrund seiner p
 rinzipiellen Ablehnung einer deutschen Kriegsteilnahme empfehlen wir a
 ls kraz eine Teilnahme!\nHier die Ankündigung der VHS:\nMit der von de
 r Bundesregierung 2022 proklamierten Zeitenwende hat die schon seit lä
 ngerem betriebene Remilitarisierung deutscher Außenpolitik einen kräft
 igen Schub erhalten.\nRüstungsindustrielle erfahren publizistische Wer
 tschätzung\, der Waffenexport in Kriegsgebiete gilt nicht länger als i
 llegitim und die Bundeswehr kann sich über ein „Sondervermögen“ von 10
 0 Milliarden Euro freuen. Jürgen Wagner von der Tübinger „Informations
 stelle Militarisierung“ (IMI) hingegen ist bei seiner antimilitaristis
 chen Position geblieben\, dass Aufrüstung und Krieg vor allem im Inter
 esse der Herrschenden liegen und sozialökologische Krisenlösungen bloc
 kieren.\nSeine Thesen über den Rüstungswahn der „Zeitenwende“ stellt e
 r in seinem Vortrag zur Diskussion.\n\nGefördert durch Demokratie lebe
 n! an der vhs Aachen\n\nKursnr.: 232-03304\nBeginn: Mi.\, 30.08.2023 \
 , 19:00 - 21:00 Uhr\nKursort: vhs\, Peterstraße\, Raum 241\, Forum\n\n
 Entgelt: kostenfrei
X-ALT-DESC;FMTTYPE=text/html:<h3>IMI-<strong>Vortrag mit Diskussion </
 strong></h3>\n<p>Jürgen Wagner\, Geschäftsführer Informationsstelle Mi
 litarisierung (IMI) kommt am 30. August nach Aachen.</p>\n<p>Er wird u
 m 19:00 Uhr im Forum der Volkshochschule\, Raum 241 seine antimilitari
 stische Position darlegen. Eine Anmeldung erfolgt unter der Kurs Numme
 r 232-03304 bei der VHS Aachen. Aufgrund seiner prinzipiellen Ablehnun
 g einer deutschen Kriegsteilnahme empfehlen wir als kraz eine Teilnahm
 e!</p>\n<h4>Hier die Ankündigung der VHS:</h4>\n<p>Mit der von der Bun
 desregierung 2022 proklamierten Zeitenwende hat die schon seit längere
 m betriebene Remilitarisierung deutscher Außenpolitik einen kräftigen 
 Schub erhalten.<br>\nRüstungsindustrielle erfahren publizistische Wert
 schätzung\, der Waffenexport in Kriegsgebiete gilt nicht länger als il
 legitim und die Bundeswehr kann sich über ein „Sondervermögen“ von 100
  Milliarden Euro freuen. Jürgen Wagner von der Tübinger „Informationss
 telle Militarisierung“ (IMI) hingegen ist bei seiner antimilitaristisc
 hen Position geblieben\, dass Aufrüstung und Krieg vor allem im Intere
 sse der Herrschenden liegen und sozialökologische Krisenlösungen block
 ieren.<br>\nSeine Thesen über den Rüstungswahn der „Zeitenwende“ stell
 t er in seinem Vortrag zur Diskussion.</p>\n<p>Gefördert durch Demokra
 tie leben! an der vhs Aachen</p>\n<p>Kursnr.: 232-03304<br>\nBeginn: M
 i.\, 30.08.2023 \, 19:00 &#8211\; 21:00 Uhr<br>\nKursort: vhs\, Peters
 traße\, Raum 241\, Forum</p>\n<p><strong>Entgelt: kostenfrei</strong><
 /p>\n
URL:https://kraz-ac.de/events/aufruestung-fuer-den-frieden?lang=de
ATTACH:https://kraz-ac.de/events/aufruestung-fuer-den-frieden?lang=de
LOCATION:VHS\, Peterstraße 21-25\, Aachen-Zentrum
END:VEVENT
END:VCALENDAR
