BEGIN:VCALENDAR
VERSION:2.0
METHOD:PUBLISH
PRODID:-//hacksw/handcal//NONSGML v1.0//EN
BEGIN:VEVENT
DTSTAMP:20260421T102945Z
DTSTART:20230617T130000Z
DTEND:20230617T160000Z
UID:20230617T130000Z-20230617T160000Z-1050@kraz-ac.de
SUMMARY:Parallel zum größten Luftmanöver der NATO ...
DESCRIPTION:Demo vom Friedensbündnis NRW Nein zum Kriegswahnsinn!\n\nG
 emeinsame Anreise aus Aachen mit Zug:\nAachen Hbf\, Gleis 7 ab: 13:22 
 - Aachen Schanz\, Gl. 2 ab: 13:25 - Aachen West\, Gl. 2 ab: 13:29 - He
 rzogenrath\, Gl.1\, ab: 13:37\n('Meldestelle' für gemeinsam Bahnfahrt:
  http://www.ac-frieden.de/2023/06/13/nein-zum-kriegswahnsinn-demonstra
 tion-des-friedensbuendnis-nrw/)\n\n-------\nDas Friedensbündnis NRW ru
 ft für Samstag\, den 17. Juni 2023 um 15:00 Uhr zu einer Demonstration
  am Johannes-Rau-Platz in Düsseldorf auf. Die Friedensbewegung sagt we
 iterhin Nein zum Kriegswahnsinn! und bringt friedlich\, aber laut folg
 ende Forderungen auf die Straße: Waffenstillstand sofort!\, Verhandeln
  statt Schießen!\, Stopp aller Waffenlieferungen! und Kein Wirtschafts
 krieg mit Russland!.\n\nMdB Andrej Hunko (Die Linke) findet es wichtig
 \, dass die Friedensbewegung aktiv bleibt und möglichst breit aufgeste
 llt ist. Sahra Wagenknecht und Alice Schwarzer haben es in Berlin gena
 uso gemacht. Die traditionellen Strukturen der Friedensbewegung und di
 e sich neu entwickelnden Strukturen sollten zusammenarbeiten\, damit d
 ieser Krieg in der Ukraine endlich ein Ende findet und die Bundesregie
 rung Druck aus der Bevölkerung spürt\, dass sie ihren Kurs ändern muss
 . Andrej Hunko wird am 17. Juni 2023 ebenfalls sprechen.\n\nJürgen Sch
 ütte (Friedensbündnis NRW) berichtet\, dass das Kanzleramt und die bet
 eiligten Ressorts sich erneut auf Lieferungen von Waffen an die Ukrain
 e in Höhe von 2\,7 Mrd. Euro geeinigt haben. Ohne öffentliche Debatte!
  Das ist die größte Waffenlieferung\, den die Bundesregierung jemals a
 n die Ukraine geliefert hat. Es handelt sich dabei um 200 Aufklärungsd
 rohnen\, 200 gepanzerte Gefechts- und Logistikfahrzeuge\, 30 Leopard T
 1 Panzer\, 20 Marder Schützenpanzer und Artillerie-Munition.\n\nSchlie
 ßt euch am Samstag\, den 17.06.2023 um 15:00 Uhr der Friedensdemo am J
 ohannes-Rau-Platz in Düsseldorf an!\n\n----\nVeranstalter ist das Frie
 densbündnis NRW\nDas ist eine Kooperation aus verschiedenen Bürger- un
 d Friedensinitiativen aus Nordrhein-Westfalen: Friedensforum Düsseldor
 f\, Friedensbündnis Mönchengladbach\, Friedensbündnis Heinsberg\, Free
 Assange-Gruppe Düsseldorf\, Nachdenkseiten-Gesprächskreis Düsseldorf\,
  Deutscher Freidenker-Verband\, Bundesverband Arbeiterfotografie\, Auf
 stehen Duisburg\, Die Gerechtigkeitspartei - Team Todenhöfer NRW\, Aac
 hener für eine menschliche Zukunft\, APO Düsseldorf\, Montags in Moers
 \, Oberberg bewegt sich\, MG Demo\, AG Frieden dieBasis\, Menschheitsf
 amilieRhein\, Bonn zeigt Gesicht\, Antikriegs-AG von aufstehen Bonn AP
 .\n\nGegen dieses Bündnis wird aus Teilen der alten Friedensbewegung k
 räftig gehetzt! Aber lest bitte selber:\n- https://www.friedenskoopera
 tive.de/friedensforum/artikel/friedensbuendnis-nrw\n- https://www.ddor
 f-aktuell.de/2023/05/16/duesseldorf-friedensbuendnis-nrw-schmipft-uebe
 r-den-gruenen-faschismus/\nWeitere Informationen:\n\n 	Friedensbündnis
  NRW (Telegram): https://t.me/friedensbuendnisNRW\n 	Friedensbündnis N
 RW (Homepage): http://friedensbuendnis-nrw.de\n 	Friedensbündnis NRW (
 Twitter): https://twitter.com/frieden_nrw\n 	Die Gerechtigkeitspartei 
 - Team Todenhöfer NRW (Homepage): https://www.teamtodenhoefer.de\n 	Aa
 chener für eine menschliche Zukunft (Homepage): http://www.ac-frieden.
 de\n 	APO Düsseldorf (Telegram): https://t.me/apoduesseldorf\n 	Montag
 s in Moers (Telegram): https://t.me/montags_in_moers\n 	Oberberg beweg
 t sich (Telegram): https://t.me/oberberg_bewegt_sich\n 	MG DEMO (Teleg
 ram): https://t.me/mg_demo\n 	AG Frieden dieBasis (Telegram): https://
 t.me/agfriedendiebasis\n 	Menschheitsfamilie Rhein-Sieg / Rhein-Berg /
  Oberberg (Telegram): https://t.me/MenschheitsfamilieRhein\n 	Bonn zei
 gt Gesicht (Telegram): https://t.me/BonnZeigtGesicht\n 	Antikriegs-AG 
 von aufstehen Bonn AP (Homepage): http://antikriegsagbonn.wordpress.co
 m\n\n \n\n 	SaschaSchmitzTV auf Telegram: https://t.me/SaschaSchmitzTV
 \n 	SaschaSchmitzTV auf Twitter: https://www.twitter.com/SaschaSchmitz
 TV\n 	SaschaSchmitzTV unterstützen (PayPal): https://www.paypal.me/Sas
 chaSchmitzTV
X-ALT-DESC;FMTTYPE=text/html:<h3>Demo vom Friedensbündnis NRW &#8222\;
 Nein zum Kriegswahnsinn!&#8220\;</h3>\n<p></p>\n<p><strong>Gemeinsame 
 Anreise aus Aachen mit Zug:</strong><br>\nAachen Hbf\, Gleis 7 ab: 13:
 22 &#8211\; Aachen Schanz\, Gl. 2 ab: 13:25 &#8211\; Aachen West\, Gl.
  2 ab: 13:29 &#8211\; Herzogenrath\, Gl.1\, ab: 13:37<br>\n(&#8218\;Me
 ldestelle&#8216\; für gemeinsam Bahnfahrt: <a href=http://www.ac-fried
 en.de/2023/06/13/nein-zum-kriegswahnsinn-demonstration-des-friedensbue
 ndnis-nrw/>http://www.ac-frieden.de/2023/06/13/nein-zum-kriegswahnsinn
 -demonstration-des-friedensbuendnis-nrw/)</a></p>\n<p>&#8212\;&#8212\;
 -<br>\nDas Friedensbündnis NRW ruft für Samstag\, den 17. Juni 2023 um
  15:00 Uhr zu einer Demonstration am Johannes-Rau-Platz in Düsseldorf 
 auf. Die Friedensbewegung sagt weiterhin &#8222\;Nein zum Kriegswahnsi
 nn!&#8220\; und bringt friedlich\, aber laut folgende Forderungen auf 
 die Straße: &#8222\;Waffenstillstand sofort!&#8220\;\, &#8222\;Verhand
 eln statt Schießen!&#8220\;\, &#8222\;Stopp aller Waffenlieferungen!&#
 8220\; und &#8222\;Kein Wirtschaftskrieg mit Russland!&#8220\;.</p>\n<
 p>MdB Andrej Hunko (Die Linke) findet es wichtig\, dass die Friedensbe
 wegung aktiv bleibt und möglichst breit aufgestellt ist. Sahra Wagenkn
 echt und Alice Schwarzer haben es in Berlin genauso gemacht. Die tradi
 tionellen Strukturen der Friedensbewegung und die sich neu entwickelnd
 en Strukturen sollten zusammenarbeiten\, damit dieser Krieg in der Ukr
 aine endlich ein Ende findet und die Bundesregierung Druck aus der Bev
 ölkerung spürt\, dass sie ihren Kurs ändern muss. Andrej Hunko wird am
  17. Juni 2023 ebenfalls sprechen.</p>\n<p>Jürgen Schütte (Friedensbün
 dnis NRW) berichtet\, dass das Kanzleramt und die beteiligten Ressorts
  sich erneut auf Lieferungen von Waffen an die Ukraine in Höhe von 2\,
 7 Mrd. Euro geeinigt haben. Ohne öffentliche Debatte! Das ist die größ
 te Waffenlieferung\, den die Bundesregierung jemals an die Ukraine gel
 iefert hat. Es handelt sich dabei um 200 Aufklärungsdrohnen\, 200 gepa
 nzerte Gefechts- und Logistikfahrzeuge\, 30 Leopard T1 Panzer\, 20 Mar
 der Schützenpanzer und Artillerie-Munition.</p>\n<p><strong>Schließt e
 uch am Samstag\, den 17.06.2023 um 15:00 Uhr der Friedensdemo am Johan
 nes-Rau-Platz in Düsseldorf an!</strong><br>\n<br>\n&#8212\;-</p>\n<h4
 >Veranstalter ist das Friedensbündnis NRW</h4>\n<p>Das ist eine Kooper
 ation aus verschiedenen Bürger- und Friedensinitiativen aus Nordrhein-
 Westfalen: Friedensforum Düsseldorf\, Friedensbündnis Mönchengladbach\
 , Friedensbündnis Heinsberg\, FreeAssange-Gruppe Düsseldorf\, Nachdenk
 seiten-Gesprächskreis Düsseldorf\, Deutscher Freidenker-Verband\, Bund
 esverband Arbeiterfotografie\, Aufstehen Duisburg\, Die Gerechtigkeits
 partei &#8211\; Team Todenhöfer NRW\, Aachener für eine menschliche Zu
 kunft\, APO Düsseldorf\, Montags in Moers\, Oberberg bewegt sich\, MG 
 Demo\, AG Frieden dieBasis\, MenschheitsfamilieRhein\, Bonn zeigt Gesi
 cht\, Antikriegs-AG von aufstehen Bonn AP.</p>\n<p>Gegen dieses Bündni
 s wird aus Teilen der &#8222\;alten&#8220\; Friedensbewegung kräftig g
 ehetzt! Aber lest bitte selber:<br>\n&#8211\; <a href=https://www.frie
 denskooperative.de/friedensforum/artikel/friedensbuendnis-nrw>https://
 www.friedenskooperative.de/friedensforum/artikel/friedensbuendnis-nrw<
 /a><br>\n<a href=https://www.ddorf-aktuell.de/2023/05/16/duesseldorf-f
 riedensbuendnis-nrw-schmipft-ueber-den-gruenen-faschismus/>&#8211\; ht
 tps://www.ddorf-aktuell.de/2023/05/16/duesseldorf-friedensbuendnis-nrw
 -schmipft-ueber-den-gruenen-faschismus/</a></p>\n<h4>Weitere Informati
 onen:</h4>\n<ul>\n<li>Friedensbündnis NRW (Telegram): https://t.me/fri
 edensbuendnisNRW</li>\n<li>Friedensbündnis NRW (Homepage): http://frie
 densbuendnis-nrw.de</li>\n<li>Friedensbündnis NRW (Twitter): https://t
 witter.com/frieden_nrw</li>\n<li>Die Gerechtigkeitspartei &#8211\; Tea
 m Todenhöfer NRW (Homepage): https://www.teamtodenhoefer.de</li>\n<li>
 Aachener für eine menschliche Zukunft (Homepage): http://www.ac-friede
 n.de</li>\n<li>APO Düsseldorf (Telegram): https://t.me/apoduesseldorf<
 /li>\n<li>Montags in Moers (Telegram): https://t.me/montags_in_moers</
 li>\n<li>Oberberg bewegt sich (Telegram): https://t.me/oberberg_bewegt
 _sich</li>\n<li>MG DEMO (Telegram): https://t.me/mg_demo</li>\n<li>AG 
 Frieden dieBasis (Telegram): https://t.me/agfriedendiebasis</li>\n<li>
 Menschheitsfamilie Rhein-Sieg / Rhein-Berg / Oberberg (Telegram): http
 s://t.me/MenschheitsfamilieRhein</li>\n<li>Bonn zeigt Gesicht (Telegra
 m): https://t.me/BonnZeigtGesicht</li>\n<li>Antikriegs-AG von aufstehe
 n Bonn AP (Homepage): http://antikriegsagbonn.wordpress.com</li>\n</ul
 >\n<p>&nbsp\;</p>\n<ul>\n<li>SaschaSchmitzTV auf Telegram: https://t.m
 e/SaschaSchmitzTV</li>\n<li>SaschaSchmitzTV auf Twitter: https://www.t
 witter.com/SaschaSchmitzTV</li>\n<li>SaschaSchmitzTV unterstützen (Pay
 Pal): https://www.paypal.me/SaschaSchmitzTV</li>\n</ul>\n
URL:https://kraz-ac.de/events/friedensbuendnis-nrw-ruft-auf?lang=de
ATTACH:https://kraz-ac.de/events/friedensbuendnis-nrw-ruft-auf?lang=de
LOCATION:Johannes-Rau-Platz\, Johannes-Rau-Platz\, Düsseldorf
END:VEVENT
END:VCALENDAR
