BEGIN:VCALENDAR
VERSION:2.0
METHOD:PUBLISH
PRODID:-//hacksw/handcal//NONSGML v1.0//EN
BEGIN:VEVENT
DTSTAMP:20260421T132600Z
DTSTART:20230518T090000Z
DTEND:20230518T100000Z
UID:20230518T090000Z-20230518T100000Z-1041@kraz-ac.de
SUMMARY:Mobilisierungs-Demo FÜR einen besser Preisträger
DESCRIPTION:Eine Auftaktveranstaltung von Querdenken 241\n\nDemonstrat
 ion im Vorfeld der Preisverleihung an einen besseren ...\n\n\nQuerdenk
 en241 Aachen ruft zu einer Demonstration vom Kurpark/Monheimsallee bis
  zum Katschhof auf. Hier der Ablauf:\n\nvor 11 Uhr: Treffen im Kurpark
 \n11:00 Uhr: Kundgebung\n11:15 Uhr Demo zum Thema: 'Einheit und Friede
 n in Europa'\,\nZugweg: Mohnheimsallee\, Heinrichsallee\, Theaterstr.\
 ,\nKapuzinergraben\, Elisengarten\, Markt\n\nVeranstalter ist Querdenk
 en 241.\n\nAb 12 Uhr gibt es dann vom Bündnis Diplomatie statt Waffen 
 und Sanktionen am Markt ...\neine bessere Preisverleihung am Himmelfah
 rtstag … an eine würdige Person\nHerrn Eugen Drevermann ....\n\n 
X-ALT-DESC;FMTTYPE=text/html:<h3>Eine Auftaktveranstaltung von Querden
 ken 241</h3>\n<p></p>\n<p><b>Demonstration im Vorfeld der Preisverleih
 ung an einen besseren &#8230\;<br>\n</b><br>\n<br>\n&#8222\;Querdenken
 241 Aachen&#8220\; ruft zu einer Demonstration vom Kurpark/Monheimsall
 ee bis zum Katschhof auf. Hier der Ablauf:</p>\n<p>vor 11 Uhr: Treffen
  im Kurpark<br>\n11:00 Uhr: Kundgebung<br>\n11:15 Uhr Demo zum Thema: 
 &#8218\;Einheit und Frieden in Europa&#8216\;\,<br>\nZugweg: Mohnheims
 allee\, Heinrichsallee\, Theaterstr.\,<br>\nKapuzinergraben\, Elisenga
 rten\, Markt</p>\n<p>Veranstalter ist Querdenken 241.</p>\n<p>Ab 12 Uh
 r gibt es dann vom Bündnis &#8222\;Diplomatie statt Waffen und Sanktio
 nen&#8220\; am Markt &#8230\;<br>\n<a href=https://kraz-ac.de/events/e
 ine-bessere-preisverleihung-am-himmelfahrtstag><strong>&#8222\;eine be
 ssere Preisverleihung am Himmelfahrtstag … an eine würdige Person</str
 ong></a><br>\nHerrn Eugen Drevermann &#8230\;.</p>\n<p>&nbsp\;</p>\n
URL:https://kraz-ac.de/events/mobilisierungs-demo-fuer-einen-besser-pr
 eistraeger?lang=de
ATTACH:https://kraz-ac.de/events/mobilisierungs-demo-fuer-einen-besser
 -preistraeger?lang=de
LOCATION:Kurpark Monheimsallee\, Monheimsallee 48\, 52062 Aachen
END:VEVENT
END:VCALENDAR
