BEGIN:VCALENDAR
VERSION:2.0
METHOD:PUBLISH
PRODID:-//hacksw/handcal//NONSGML v1.0//EN
BEGIN:VEVENT
DTSTAMP:20260421T115149Z
DTSTART:20230506T133000Z
DTEND:20230506T153000Z
UID:20230506T133000Z-20230506T153000Z-1034@kraz-ac.de
SUMMARY:Diplomatie - statt Waffen und Sanktionen
DESCRIPTION:Die ZEHNTE Anti-Kriegs-Kundgebung und -Demo (Start-Änderun
 g)\n\n\nHoffentlich wird DIESE Aktion endlich nicht mehr notwendig sei
 n - aber wahrscheinlich ist das leider nicht!\nTrotzdem: die Hoffnung 
 stirbt zuletzt!\nSollte der Krieg in der Ukraine aber weiter andauern\
 , werden wir auch weiter mit der Parole dagegen demonstrieren:\n==> Li
 eber raus aus der NATO als rein in den dritten Weltkrieg!\nDie westlic
 hen NATO-Kriegsherren und -damen wollen keine Kriegsende.\nSie setzen 
 stattdessen weiter auf Waffen statt auf Diplomatie!\n\nAlso müssen wir
  weitermachen\, auf die Straße gehen und laut verkünden:\n\n 	Wir woll
 en diesen Krieg nicht!\nWir wehren uns gegen das unablässige Anheizen 
 dieses Krieges durch die Politik der NATO und der Mainstream-Medien in
  Deutschland\n 	Wir wollen keine Waffenlieferungen\ndiese führen nur z
 u einer weiteren Eskalation des Krieges\n\n 	Wir wollen keine Sanktion
 en\ndiese helfen keineswegs bei der Beendigung des Krieges. Im Gegente
 il sorgen sie hier bei uns\nin Deutschland für schlimme Situationen de
 r Normalverdiener durch Inflation und Frieren für den Krieg\n\nWir for
 dern DIPLOMATISCHE Lösungen im Ukraine Krieg.\nVerhandlungen könnten s
 ehr schnell zu einem Ende dieses Krieges führen\nSamstag\, 6. Mai 2023
 \, 15:30 bis 17:30 Uhr\nTreffen diesmal am Willy-Brandt-Platz mit ansc
 hließender Demonstration\n\nVeranstalter der Kundgebung und Demo sind 
 erneut das „Bündnis gegen Waffenlieferungen“ (‚Aachener für eine mensc
 hliche Zukunft‘\, Freie-Linke-Aachen\, Friedensinitiative-Querdenken24
 1-Aachen\, AK-GewerkschafterInnen Aachen)
X-ALT-DESC;FMTTYPE=text/html:<h3><b>Die ZEHNTE Anti-Kriegs-Kundgebung 
 und -Demo <span style=color: #ff0000>(Start-Änderung)</span><br>\n</b>
 </h3>\n<p>Hoffentlich wird DIESE Aktion endlich nicht mehr notwendig s
 ein &#8211\; aber wahrscheinlich ist das leider nicht!<br>\nTrotzdem: 
 die Hoffnung stirbt zuletzt!<br>\nSollte der Krieg in der Ukraine aber
  weiter andauern\, werden wir auch weiter mit der Parole dagegen demon
 strieren:</p>\n<h4>==&gt\; Lieber raus aus der NATO als rein in den dr
 itten Weltkrieg!</h4>\n<p>Die westlichen NATO-Kriegsherren und -damen 
 wollen keine Kriegsende.<br>\nSie setzen stattdessen weiter auf Waffen
  statt auf Diplomatie!</p>\n<p>Also müssen wir weitermachen\, auf die 
 Straße gehen und laut verkünden:</p>\n<ul>\n<li><strong>Wir wollen die
 sen Krieg nicht!</strong><br>\nWir wehren uns gegen das unablässige An
 heizen dieses Krieges durch die Politik der NATO und der Mainstream-Me
 dien in Deutschland</li>\n<li><strong>Wir wollen keine Waffenlieferung
 en<br>\n</strong>diese führen nur zu einer weiteren Eskalation des Kri
 eges<b><br>\n</b></li>\n<li><b>Wir wollen keine Sanktionen</b><br>\ndi
 ese helfen keineswegs bei der Beendigung des Krieges. Im Gegenteil sor
 gen sie hier bei uns<br>\nin Deutschland für schlimme Situationen der 
 Normalverdiener durch Inflation und &#8222\;Frieren für den Krieg&#822
 0\;</li>\n</ul>\n<p style=text-align: center><b>Wir fordern DIPLOMATIS
 CHE Lösungen im Ukraine Krieg.</b><b><br>\nVerhandlungen könnten sehr 
 schnell zu einem Ende dieses Krieges führen</b></p>\n<p><span style=co
 lor: #000000>Samstag\, 6. Mai 2023\, 15:30 bis 17:30 Uhr</span><br>\n<
 span style=color: #000000>Treffen <span style=color: #ff0000>diesmal a
 m Willy-Brandt-Platz</span> mit anschließender Demonstration</span><br
 >\n<br>\nVeranstalter der Kundgebung und Demo sind erneut das „Bündnis
  gegen Waffenlieferungen“ (‚Aachener für eine menschliche Zukunft‘\, F
 reie-Linke-Aachen\, Friedensinitiative-Querdenken241-Aachen\, AK-Gewer
 kschafterInnen Aachen)</p>\n
URL:https://kraz-ac.de/events/diplomatie-statt-waffen-und-sanktionen-6
 ?lang=de
ATTACH:https://kraz-ac.de/events/diplomatie-statt-waffen-und-sanktione
 n-6?lang=de
LOCATION:Willi-Brand-Platz/ Kugelbrunnen\, Willi-Brand-Platz\, Aachen
END:VEVENT
END:VCALENDAR
