BEGIN:VCALENDAR
VERSION:2.0
METHOD:PUBLISH
PRODID:-//hacksw/handcal//NONSGML v1.0//EN
BEGIN:VEVENT
DTSTAMP:20260421T115019Z
DTSTART:20230518T100000Z
DTEND:20230518T113000Z
UID:20230518T100000Z-20230518T113000Z-1030@kraz-ac.de
SUMMARY:Eine bessere Preisverleihung am Himmelfahrtstag ...
DESCRIPTION:Diesmal an eine ehrenvolle Person\n\nDie offizielle Karlpr
 eisverleihung an den Ukrainischen Ministerpräsidenten Selenskyj ist vo
 m 18. auf den 14. Mai vorverlegt worden.\nSo wurde der Tag frei für di
 e Würdigung einer ehrenvollen Person!\nUnd deshalb wird das Bündnis Di
 plomatie statt Waffen und Sanktionen im Namen der Aachener Anti-Kriegs
 bewegung einen eigenen\, neuen Preis verleihen - diesmal aber an eine 
 EHRENVOLLE Person nämlich Eugen Drewermann! Aus Termingründen kann er 
 nicht persönlich anwesend\, aber per Video-Schaltung doch dabei sein.\
 n\nDonnerstag\, 18. Mai\, Himmelfahrtstag\n(ursprünglich der tradition
 eller Tag der Verleihung des Karlspreises)\n12 -13:30 Uhr\, Markt: \nV
 erleihung der 'Aachener Auszeichnung für Menschlichkeit'\nan Dr. Eugen
  Drewermann\n\ndurch das Bündnis 'Diplomatie statt Waffen und Sanktion
 en'\nLaudator: Dirk Pohlmann\nMusik:     Blue Flower und andere\;\nHin
 weis: Vorher gibt es noch eine Mobilisierungs-Demo von Querdenken 241 
 (==> siehe hier)
X-ALT-DESC;FMTTYPE=text/html:<h3>Diesmal an eine ehrenvolle Person</h3
 >\n<p>Die &#8222\;offizielle Karlpreisverleihung&#8220\; an den Ukrain
 ischen Ministerpräsidenten Selenskyj ist vom 18. auf den 14. Mai vorve
 rlegt worden.</p>\n<p style=text-align: center><strong>So wurde der Ta
 g &#8222\;frei&#8220\; für die Würdigung einer ehrenvollen Person!</st
 rong></p>\n<p>Und deshalb wird das Bündnis &#8222\;Diplomatie statt Wa
 ffen und Sanktionen&#8220\; im Namen der Aachener Anti-Kriegsbewegung 
 einen eigenen\, neuen Preis verleihen &#8211\; diesmal aber an eine EH
 RENVOLLE Person nämlich Eugen Drewermann! Aus Termingründen kann er ni
 cht persönlich anwesend\, aber per Video-Schaltung doch &#8222\;dabei&
 #8220\; sein.</p>\n<p><strong>Donnerstag\, 18. Mai\, Himmelfahrtstag<b
 r>\n</strong>(ursprünglich der traditioneller Tag der Verleihung des K
 arlspreises)<br>\n<strong>12 -13:30 Uhr\, Markt: </strong></p>\n<p sty
 le=text-align: center><strong>Verleihung der &#8218\;Aachener Auszeich
 nung für Menschlichkeit&#8216\;<br>\nan Dr. Eugen Drewermann<br>\n</st
 rong></p>\n<p style=text-align: left>durch das Bündnis &#8218\;Diploma
 tie statt Waffen und Sanktionen&#8216\;<br>\nLaudator: Dirk Pohlmann<b
 r>\nMusik:     Blue Flower und andere\;</p>\n<p><strong>Hinweis: Vorhe
 r gibt es noch eine Mobilisierungs-Demo von Querdenken 241 </strong><s
 trong>(<a href=https://kraz-ac.de/events/mobilisierungs-demo-fuer-eine
 n-besser-preistraeger>==&gt\; siehe hier</a>)</strong><a href=https://
 kraz-ac.de/events/demonstration-gegen-den-karlspreis data-wpel-link=in
 ternal><em><br>\n</em></a></p>\n
URL:https://kraz-ac.de/events/eine-bessere-preisverleihung-am-himmelfa
 hrtstag?lang=de
ATTACH:https://kraz-ac.de/events/eine-bessere-preisverleihung-am-himme
 lfahrtstag?lang=de
LOCATION:Aachen Markt\, \, Aachen
END:VEVENT
END:VCALENDAR
